BEGIN:VCALENDAR
VERSION:2.0
PRODID:-//Djursholms Tennisklubb - ECPv6.15.14//NONSGML v1.0//EN
CALSCALE:GREGORIAN
METHOD:PUBLISH
X-ORIGINAL-URL:https://www.djtk.se
X-WR-CALDESC:Händelser för Djursholms Tennisklubb
REFRESH-INTERVAL;VALUE=DURATION:PT1H
X-Robots-Tag:noindex
X-PUBLISHED-TTL:PT1H
BEGIN:VTIMEZONE
TZID:Europe/Stockholm
BEGIN:DAYLIGHT
TZOFFSETFROM:+0100
TZOFFSETTO:+0200
TZNAME:CEST
DTSTART:20250330T010000
END:DAYLIGHT
BEGIN:STANDARD
TZOFFSETFROM:+0200
TZOFFSETTO:+0100
TZNAME:CET
DTSTART:20251026T010000
END:STANDARD
BEGIN:DAYLIGHT
TZOFFSETFROM:+0100
TZOFFSETTO:+0200
TZNAME:CEST
DTSTART:20260329T010000
END:DAYLIGHT
BEGIN:STANDARD
TZOFFSETFROM:+0200
TZOFFSETTO:+0100
TZNAME:CET
DTSTART:20261025T010000
END:STANDARD
BEGIN:DAYLIGHT
TZOFFSETFROM:+0100
TZOFFSETTO:+0200
TZNAME:CEST
DTSTART:20270328T010000
END:DAYLIGHT
BEGIN:STANDARD
TZOFFSETFROM:+0200
TZOFFSETTO:+0100
TZNAME:CET
DTSTART:20271031T010000
END:STANDARD
END:VTIMEZONE
BEGIN:VEVENT
DTSTART;TZID=Europe/Stockholm:20261001T110000
DTEND;TZID=Europe/Stockholm:20261001T120000
DTSTAMP:20260425T030318
CREATED:20251028T093700Z
LAST-MODIFIED:20251028T093700Z
UID:10010555-1790852400-1790856000@www.djtk.se
SUMMARY:Tennis - Teknikträning Nivå 3+
DESCRIPTION:
URL:https://www.djtk.se/kalender/tennis-tekniktraning-niva-3/2026-10-01/
LOCATION:Djursholms Tennisklubb\, Danderydsvägen 4\, Djursholm\, 18268
END:VEVENT
BEGIN:VEVENT
DTSTART;TZID=Europe/Stockholm:20261001T110000
DTEND;TZID=Europe/Stockholm:20261001T120000
DTSTAMP:20260425T030318
CREATED:20251028T095014Z
LAST-MODIFIED:20251028T095014Z
UID:10012117-1790852400-1790856000@www.djtk.se
SUMMARY:Padel - Drop in träning. 60 min\, Nivå 4-5
DESCRIPTION:
URL:https://www.djtk.se/kalender/padel-drop-in-traning-60-min-niva-4-5/2026-10-01/
LOCATION:Djursholms Tennisklubb\, Danderydsvägen 4\, Djursholm\, 18268
END:VEVENT
BEGIN:VEVENT
DTSTART;TZID=Europe/Stockholm:20261001T120000
DTEND;TZID=Europe/Stockholm:20261001T130000
DTSTAMP:20260425T030318
CREATED:20251028T093828Z
LAST-MODIFIED:20251028T093828Z
UID:10010815-1790856000-1790859600@www.djtk.se
SUMMARY:Tennis - Matchspel singel Avancerad
DESCRIPTION:
URL:https://www.djtk.se/kalender/tennis-matchspel-singel-avancerad/2026-10-01/
LOCATION:Djursholms Tennisklubb\, Danderydsvägen 4\, Djursholm\, 18268
END:VEVENT
BEGIN:VEVENT
DTSTART;TZID=Europe/Stockholm:20261002T080000
DTEND;TZID=Europe/Stockholm:20261002T093000
DTSTAMP:20260425T030318
CREATED:20251028T095146Z
LAST-MODIFIED:20251028T095146Z
UID:10012377-1790928000-1790933400@www.djtk.se
SUMMARY:Padel - Vinnarbana med tränare. 90 min\, Nivå 6-7 Herrar
DESCRIPTION:
URL:https://www.djtk.se/kalender/padel-vinnarbana-med-tranare-90-min-niva-6-7-herrar/2026-10-02/
LOCATION:Djursholms Tennisklubb\, Danderydsvägen 4\, Djursholm\, 18268
END:VEVENT
BEGIN:VEVENT
DTSTART;TZID=Europe/Stockholm:20261002T103000
DTEND;TZID=Europe/Stockholm:20261002T113000
DTSTAMP:20260425T030318
CREATED:20251028T095320Z
LAST-MODIFIED:20251028T095320Z
UID:10012637-1790937000-1790940600@www.djtk.se
SUMMARY:Padel - Seniorträning 55+\, 60 min.
DESCRIPTION:
URL:https://www.djtk.se/kalender/padel-seniortraning-55-60-min/2026-10-02/
LOCATION:Djursholms Tennisklubb\, Danderydsvägen 4\, Djursholm\, 18268
END:VEVENT
BEGIN:VEVENT
DTSTART;TZID=Europe/Stockholm:20261002T113000
DTEND;TZID=Europe/Stockholm:20261002T130000
DTSTAMP:20260425T030318
CREATED:20251028T095652Z
LAST-MODIFIED:20251028T095652Z
UID:10012897-1790940600-1790946000@www.djtk.se
SUMMARY:Padel - Mexicanofredag by Gatorade. Nivå 4-6
DESCRIPTION:
URL:https://www.djtk.se/kalender/padel-mexicanofredag-by-gatorade-niva-4-6/2026-10-02/
LOCATION:Djursholms Tennisklubb\, Danderydsvägen 4\, Djursholm\, 18268
END:VEVENT
BEGIN:VEVENT
DTSTART;TZID=Europe/Stockholm:20261005T100000
DTEND;TZID=Europe/Stockholm:20261005T113000
DTSTAMP:20260425T030318
CREATED:20251028T094254Z
LAST-MODIFIED:20251028T094254Z
UID:10011076-1791194400-1791199800@www.djtk.se
SUMMARY:Padel - Seniorträning  55+\, 90 min
DESCRIPTION:
URL:https://www.djtk.se/kalender/padel-seniortraning-55-90-min/2026-10-05/
LOCATION:Djursholms Tennisklubb\, Danderydsvägen 4\, Djursholm\, 18268
END:VEVENT
BEGIN:VEVENT
DTSTART;TZID=Europe/Stockholm:20261005T113000
DTEND;TZID=Europe/Stockholm:20261005T130000
DTSTAMP:20260425T030318
CREATED:20251028T094449Z
LAST-MODIFIED:20251028T094449Z
UID:10011337-1791199800-1791205200@www.djtk.se
SUMMARY:Padel- Matchspel med tränare 90 min\, nivå 3-5
DESCRIPTION:
URL:https://www.djtk.se/kalender/padel-matchspel-med-tranare-90-min-niva-3-5/2026-10-05/
LOCATION:Djursholms Tennisklubb\, Danderydsvägen 4\, Djursholm\, 18268
END:VEVENT
BEGIN:VEVENT
DTSTART;TZID=Europe/Stockholm:20261006T110000
DTEND;TZID=Europe/Stockholm:20261006T123000
DTSTAMP:20260425T030318
CREATED:20251028T094614Z
LAST-MODIFIED:20251028T094614Z
UID:10011598-1791284400-1791289800@www.djtk.se
SUMMARY:Padel - Matchspel med tränare. 90 min\, Nivå 5-7
DESCRIPTION:
URL:https://www.djtk.se/kalender/padel-matchspel-med-tranare-90-min-niva-5-7/2026-10-06/
LOCATION:Djursholms Tennisklubb\, Danderydsvägen 4\, Djursholm\, 18268
END:VEVENT
BEGIN:VEVENT
DTSTART;TZID=Europe/Stockholm:20261006T120000
DTEND;TZID=Europe/Stockholm:20261006T130000
DTSTAMP:20260425T030318
CREATED:20251028T093442Z
LAST-MODIFIED:20251028T093442Z
UID:10010295-1791288000-1791291600@www.djtk.se
SUMMARY:Tennis - Matchspel Singel Nivå 3-4
DESCRIPTION:
URL:https://www.djtk.se/kalender/tennis-matchspel-singel-niva-3-4/2026-10-06/
LOCATION:Djursholms Tennisklubb\, Danderydsvägen 4\, Djursholm\, 18268
END:VEVENT
BEGIN:VEVENT
DTSTART;TZID=Europe/Stockholm:20261007T110000
DTEND;TZID=Europe/Stockholm:20261007T123000
DTSTAMP:20260425T030318
CREATED:20251028T094835Z
LAST-MODIFIED:20251028T094835Z
UID:10011858-1791370800-1791376200@www.djtk.se
SUMMARY:Padel - Stationsträning med 3 tränare. 90 min\, Nivå 4-6
DESCRIPTION:
URL:https://www.djtk.se/kalender/padel-stationstraning-med-3-tranare-90-min-niva-4-6/2026-10-07/
LOCATION:Djursholms Tennisklubb\, Danderydsvägen 4\, Djursholm\, 18268
END:VEVENT
BEGIN:VEVENT
DTSTART;TZID=Europe/Stockholm:20261007T120000
DTEND;TZID=Europe/Stockholm:20261007T140000
DTSTAMP:20260425T030318
CREATED:20251028T100228Z
LAST-MODIFIED:20251028T100228Z
UID:10013160-1791374400-1791381600@www.djtk.se
SUMMARY:Tennis - Team damdubbel omg. 2
DESCRIPTION:
URL:https://www.djtk.se/kalender/tennis-team-damdubbel-omg-2/2026-10-07/
LOCATION:Djursholms Tennisklubb\, Danderydsvägen 4\, Djursholm\, 18268
END:VEVENT
BEGIN:VEVENT
DTSTART;TZID=Europe/Stockholm:20261008T110000
DTEND;TZID=Europe/Stockholm:20261008T120000
DTSTAMP:20260425T030318
CREATED:20251028T093700Z
LAST-MODIFIED:20251028T093700Z
UID:10010556-1791457200-1791460800@www.djtk.se
SUMMARY:Tennis - Teknikträning Nivå 3+
DESCRIPTION:
URL:https://www.djtk.se/kalender/tennis-tekniktraning-niva-3/2026-10-08/
LOCATION:Djursholms Tennisklubb\, Danderydsvägen 4\, Djursholm\, 18268
END:VEVENT
BEGIN:VEVENT
DTSTART;TZID=Europe/Stockholm:20261008T110000
DTEND;TZID=Europe/Stockholm:20261008T120000
DTSTAMP:20260425T030318
CREATED:20251028T095014Z
LAST-MODIFIED:20251028T095014Z
UID:10012118-1791457200-1791460800@www.djtk.se
SUMMARY:Padel - Drop in träning. 60 min\, Nivå 4-5
DESCRIPTION:
URL:https://www.djtk.se/kalender/padel-drop-in-traning-60-min-niva-4-5/2026-10-08/
LOCATION:Djursholms Tennisklubb\, Danderydsvägen 4\, Djursholm\, 18268
END:VEVENT
BEGIN:VEVENT
DTSTART;TZID=Europe/Stockholm:20261008T120000
DTEND;TZID=Europe/Stockholm:20261008T130000
DTSTAMP:20260425T030318
CREATED:20251028T093828Z
LAST-MODIFIED:20251028T093828Z
UID:10010816-1791460800-1791464400@www.djtk.se
SUMMARY:Tennis - Matchspel singel Avancerad
DESCRIPTION:
URL:https://www.djtk.se/kalender/tennis-matchspel-singel-avancerad/2026-10-08/
LOCATION:Djursholms Tennisklubb\, Danderydsvägen 4\, Djursholm\, 18268
END:VEVENT
BEGIN:VEVENT
DTSTART;TZID=Europe/Stockholm:20261009T080000
DTEND;TZID=Europe/Stockholm:20261009T093000
DTSTAMP:20260425T030318
CREATED:20251028T095146Z
LAST-MODIFIED:20251028T095146Z
UID:10012378-1791532800-1791538200@www.djtk.se
SUMMARY:Padel - Vinnarbana med tränare. 90 min\, Nivå 6-7 Herrar
DESCRIPTION:
URL:https://www.djtk.se/kalender/padel-vinnarbana-med-tranare-90-min-niva-6-7-herrar/2026-10-09/
LOCATION:Djursholms Tennisklubb\, Danderydsvägen 4\, Djursholm\, 18268
END:VEVENT
BEGIN:VEVENT
DTSTART;TZID=Europe/Stockholm:20261009T103000
DTEND;TZID=Europe/Stockholm:20261009T113000
DTSTAMP:20260425T030318
CREATED:20251028T095320Z
LAST-MODIFIED:20251028T095320Z
UID:10012638-1791541800-1791545400@www.djtk.se
SUMMARY:Padel - Seniorträning 55+\, 60 min.
DESCRIPTION:
URL:https://www.djtk.se/kalender/padel-seniortraning-55-60-min/2026-10-09/
LOCATION:Djursholms Tennisklubb\, Danderydsvägen 4\, Djursholm\, 18268
END:VEVENT
BEGIN:VEVENT
DTSTART;TZID=Europe/Stockholm:20261009T113000
DTEND;TZID=Europe/Stockholm:20261009T130000
DTSTAMP:20260425T030318
CREATED:20251028T095652Z
LAST-MODIFIED:20251028T095652Z
UID:10012898-1791545400-1791550800@www.djtk.se
SUMMARY:Padel - Mexicanofredag by Gatorade. Nivå 4-6
DESCRIPTION:
URL:https://www.djtk.se/kalender/padel-mexicanofredag-by-gatorade-niva-4-6/2026-10-09/
LOCATION:Djursholms Tennisklubb\, Danderydsvägen 4\, Djursholm\, 18268
END:VEVENT
BEGIN:VEVENT
DTSTART;TZID=Europe/Stockholm:20261012T100000
DTEND;TZID=Europe/Stockholm:20261012T113000
DTSTAMP:20260425T030318
CREATED:20251028T094254Z
LAST-MODIFIED:20251028T094254Z
UID:10011077-1791799200-1791804600@www.djtk.se
SUMMARY:Padel - Seniorträning  55+\, 90 min
DESCRIPTION:
URL:https://www.djtk.se/kalender/padel-seniortraning-55-90-min/2026-10-12/
LOCATION:Djursholms Tennisklubb\, Danderydsvägen 4\, Djursholm\, 18268
END:VEVENT
BEGIN:VEVENT
DTSTART;TZID=Europe/Stockholm:20261012T113000
DTEND;TZID=Europe/Stockholm:20261012T130000
DTSTAMP:20260425T030318
CREATED:20251028T094449Z
LAST-MODIFIED:20251028T094449Z
UID:10011338-1791804600-1791810000@www.djtk.se
SUMMARY:Padel- Matchspel med tränare 90 min\, nivå 3-5
DESCRIPTION:
URL:https://www.djtk.se/kalender/padel-matchspel-med-tranare-90-min-niva-3-5/2026-10-12/
LOCATION:Djursholms Tennisklubb\, Danderydsvägen 4\, Djursholm\, 18268
END:VEVENT
BEGIN:VEVENT
DTSTART;TZID=Europe/Stockholm:20261013T110000
DTEND;TZID=Europe/Stockholm:20261013T123000
DTSTAMP:20260425T030318
CREATED:20251028T094614Z
LAST-MODIFIED:20251028T094614Z
UID:10011599-1791889200-1791894600@www.djtk.se
SUMMARY:Padel - Matchspel med tränare. 90 min\, Nivå 5-7
DESCRIPTION:
URL:https://www.djtk.se/kalender/padel-matchspel-med-tranare-90-min-niva-5-7/2026-10-13/
LOCATION:Djursholms Tennisklubb\, Danderydsvägen 4\, Djursholm\, 18268
END:VEVENT
BEGIN:VEVENT
DTSTART;TZID=Europe/Stockholm:20261013T120000
DTEND;TZID=Europe/Stockholm:20261013T130000
DTSTAMP:20260425T030318
CREATED:20251028T093442Z
LAST-MODIFIED:20251028T093442Z
UID:10010296-1791892800-1791896400@www.djtk.se
SUMMARY:Tennis - Matchspel Singel Nivå 3-4
DESCRIPTION:
URL:https://www.djtk.se/kalender/tennis-matchspel-singel-niva-3-4/2026-10-13/
LOCATION:Djursholms Tennisklubb\, Danderydsvägen 4\, Djursholm\, 18268
END:VEVENT
BEGIN:VEVENT
DTSTART;TZID=Europe/Stockholm:20261014T110000
DTEND;TZID=Europe/Stockholm:20261014T123000
DTSTAMP:20260425T030318
CREATED:20251028T094835Z
LAST-MODIFIED:20251028T094835Z
UID:10011859-1791975600-1791981000@www.djtk.se
SUMMARY:Padel - Stationsträning med 3 tränare. 90 min\, Nivå 4-6
DESCRIPTION:
URL:https://www.djtk.se/kalender/padel-stationstraning-med-3-tranare-90-min-niva-4-6/2026-10-14/
LOCATION:Djursholms Tennisklubb\, Danderydsvägen 4\, Djursholm\, 18268
END:VEVENT
BEGIN:VEVENT
DTSTART;TZID=Europe/Stockholm:20261014T120000
DTEND;TZID=Europe/Stockholm:20261014T140000
DTSTAMP:20260425T030318
CREATED:20251028T100228Z
LAST-MODIFIED:20251028T100228Z
UID:10013161-1791979200-1791986400@www.djtk.se
SUMMARY:Tennis - Team damdubbel omg. 2
DESCRIPTION:
URL:https://www.djtk.se/kalender/tennis-team-damdubbel-omg-2/2026-10-14/
LOCATION:Djursholms Tennisklubb\, Danderydsvägen 4\, Djursholm\, 18268
END:VEVENT
BEGIN:VEVENT
DTSTART;TZID=Europe/Stockholm:20261015T110000
DTEND;TZID=Europe/Stockholm:20261015T120000
DTSTAMP:20260425T030318
CREATED:20251028T093700Z
LAST-MODIFIED:20251028T093700Z
UID:10010557-1792062000-1792065600@www.djtk.se
SUMMARY:Tennis - Teknikträning Nivå 3+
DESCRIPTION:
URL:https://www.djtk.se/kalender/tennis-tekniktraning-niva-3/2026-10-15/
LOCATION:Djursholms Tennisklubb\, Danderydsvägen 4\, Djursholm\, 18268
END:VEVENT
BEGIN:VEVENT
DTSTART;TZID=Europe/Stockholm:20261015T110000
DTEND;TZID=Europe/Stockholm:20261015T120000
DTSTAMP:20260425T030318
CREATED:20251028T095014Z
LAST-MODIFIED:20251028T095014Z
UID:10012119-1792062000-1792065600@www.djtk.se
SUMMARY:Padel - Drop in träning. 60 min\, Nivå 4-5
DESCRIPTION:
URL:https://www.djtk.se/kalender/padel-drop-in-traning-60-min-niva-4-5/2026-10-15/
LOCATION:Djursholms Tennisklubb\, Danderydsvägen 4\, Djursholm\, 18268
END:VEVENT
BEGIN:VEVENT
DTSTART;TZID=Europe/Stockholm:20261015T120000
DTEND;TZID=Europe/Stockholm:20261015T130000
DTSTAMP:20260425T030318
CREATED:20251028T093828Z
LAST-MODIFIED:20251028T093828Z
UID:10010817-1792065600-1792069200@www.djtk.se
SUMMARY:Tennis - Matchspel singel Avancerad
DESCRIPTION:
URL:https://www.djtk.se/kalender/tennis-matchspel-singel-avancerad/2026-10-15/
LOCATION:Djursholms Tennisklubb\, Danderydsvägen 4\, Djursholm\, 18268
END:VEVENT
BEGIN:VEVENT
DTSTART;TZID=Europe/Stockholm:20261016T080000
DTEND;TZID=Europe/Stockholm:20261016T093000
DTSTAMP:20260425T030318
CREATED:20251028T095146Z
LAST-MODIFIED:20251028T095146Z
UID:10012379-1792137600-1792143000@www.djtk.se
SUMMARY:Padel - Vinnarbana med tränare. 90 min\, Nivå 6-7 Herrar
DESCRIPTION:
URL:https://www.djtk.se/kalender/padel-vinnarbana-med-tranare-90-min-niva-6-7-herrar/2026-10-16/
LOCATION:Djursholms Tennisklubb\, Danderydsvägen 4\, Djursholm\, 18268
END:VEVENT
BEGIN:VEVENT
DTSTART;TZID=Europe/Stockholm:20261016T103000
DTEND;TZID=Europe/Stockholm:20261016T113000
DTSTAMP:20260425T030318
CREATED:20251028T095320Z
LAST-MODIFIED:20251028T095320Z
UID:10012639-1792146600-1792150200@www.djtk.se
SUMMARY:Padel - Seniorträning 55+\, 60 min.
DESCRIPTION:
URL:https://www.djtk.se/kalender/padel-seniortraning-55-60-min/2026-10-16/
LOCATION:Djursholms Tennisklubb\, Danderydsvägen 4\, Djursholm\, 18268
END:VEVENT
BEGIN:VEVENT
DTSTART;TZID=Europe/Stockholm:20261016T113000
DTEND;TZID=Europe/Stockholm:20261016T130000
DTSTAMP:20260425T030318
CREATED:20251028T095652Z
LAST-MODIFIED:20251028T095652Z
UID:10012899-1792150200-1792155600@www.djtk.se
SUMMARY:Padel - Mexicanofredag by Gatorade. Nivå 4-6
DESCRIPTION:
URL:https://www.djtk.se/kalender/padel-mexicanofredag-by-gatorade-niva-4-6/2026-10-16/
LOCATION:Djursholms Tennisklubb\, Danderydsvägen 4\, Djursholm\, 18268
END:VEVENT
END:VCALENDAR