BEGIN:VCALENDAR
VERSION:2.0
PRODID:-//Djursholms Tennisklubb - ECPv6.15.14//NONSGML v1.0//EN
CALSCALE:GREGORIAN
METHOD:PUBLISH
X-WR-CALNAME:Djursholms Tennisklubb
X-ORIGINAL-URL:https://www.djtk.se
X-WR-CALDESC:Händelser för Djursholms Tennisklubb
REFRESH-INTERVAL;VALUE=DURATION:PT1H
X-Robots-Tag:noindex
X-PUBLISHED-TTL:PT1H
BEGIN:VTIMEZONE
TZID:Europe/Stockholm
BEGIN:DAYLIGHT
TZOFFSETFROM:+0100
TZOFFSETTO:+0200
TZNAME:CEST
DTSTART:20250330T010000
END:DAYLIGHT
BEGIN:STANDARD
TZOFFSETFROM:+0200
TZOFFSETTO:+0100
TZNAME:CET
DTSTART:20251026T010000
END:STANDARD
BEGIN:DAYLIGHT
TZOFFSETFROM:+0100
TZOFFSETTO:+0200
TZNAME:CEST
DTSTART:20260329T010000
END:DAYLIGHT
BEGIN:STANDARD
TZOFFSETFROM:+0200
TZOFFSETTO:+0100
TZNAME:CET
DTSTART:20261025T010000
END:STANDARD
BEGIN:DAYLIGHT
TZOFFSETFROM:+0100
TZOFFSETTO:+0200
TZNAME:CEST
DTSTART:20270328T010000
END:DAYLIGHT
BEGIN:STANDARD
TZOFFSETFROM:+0200
TZOFFSETTO:+0100
TZNAME:CET
DTSTART:20271031T010000
END:STANDARD
END:VTIMEZONE
BEGIN:VEVENT
DTSTART;TZID=Europe/Stockholm:20260327T113000
DTEND;TZID=Europe/Stockholm:20260327T130000
DTSTAMP:20260425T030230
CREATED:20251028T095652Z
LAST-MODIFIED:20251028T095652Z
UID:10012870-1774611000-1774616400@www.djtk.se
SUMMARY:Padel - Mexicanofredag by Gatorade. Nivå 4-6
DESCRIPTION:
URL:https://www.djtk.se/kalender/padel-mexicanofredag-by-gatorade-niva-4-6/2026-03-27/
LOCATION:Djursholms Tennisklubb\, Danderydsvägen 4\, Djursholm\, 18268
END:VEVENT
BEGIN:VEVENT
DTSTART;TZID=Europe/Stockholm:20260327T103000
DTEND;TZID=Europe/Stockholm:20260327T113000
DTSTAMP:20260425T030230
CREATED:20251028T095320Z
LAST-MODIFIED:20251028T095320Z
UID:10012610-1774607400-1774611000@www.djtk.se
SUMMARY:Padel - Seniorträning 55+\, 60 min.
DESCRIPTION:
URL:https://www.djtk.se/kalender/padel-seniortraning-55-60-min/2026-03-27/
LOCATION:Djursholms Tennisklubb\, Danderydsvägen 4\, Djursholm\, 18268
END:VEVENT
BEGIN:VEVENT
DTSTART;TZID=Europe/Stockholm:20260327T080000
DTEND;TZID=Europe/Stockholm:20260327T093000
DTSTAMP:20260425T030230
CREATED:20251028T095146Z
LAST-MODIFIED:20251028T095146Z
UID:10012350-1774598400-1774603800@www.djtk.se
SUMMARY:Padel - Vinnarbana med tränare. 90 min\, Nivå 6-7 Herrar
DESCRIPTION:
URL:https://www.djtk.se/kalender/padel-vinnarbana-med-tranare-90-min-niva-6-7-herrar/2026-03-27/
LOCATION:Djursholms Tennisklubb\, Danderydsvägen 4\, Djursholm\, 18268
END:VEVENT
BEGIN:VEVENT
DTSTART;TZID=Europe/Stockholm:20260326T120000
DTEND;TZID=Europe/Stockholm:20260326T130000
DTSTAMP:20260425T030230
CREATED:20251028T093828Z
LAST-MODIFIED:20251028T093828Z
UID:10010788-1774526400-1774530000@www.djtk.se
SUMMARY:Tennis - Matchspel singel Avancerad
DESCRIPTION:
URL:https://www.djtk.se/kalender/tennis-matchspel-singel-avancerad/2026-03-26/
LOCATION:Djursholms Tennisklubb\, Danderydsvägen 4\, Djursholm\, 18268
END:VEVENT
BEGIN:VEVENT
DTSTART;TZID=Europe/Stockholm:20260326T110000
DTEND;TZID=Europe/Stockholm:20260326T120000
DTSTAMP:20260425T030230
CREATED:20251028T095014Z
LAST-MODIFIED:20251028T095014Z
UID:10012090-1774522800-1774526400@www.djtk.se
SUMMARY:Padel - Drop in träning. 60 min\, Nivå 4-5
DESCRIPTION:
URL:https://www.djtk.se/kalender/padel-drop-in-traning-60-min-niva-4-5/2026-03-26/
LOCATION:Djursholms Tennisklubb\, Danderydsvägen 4\, Djursholm\, 18268
END:VEVENT
BEGIN:VEVENT
DTSTART;TZID=Europe/Stockholm:20260326T110000
DTEND;TZID=Europe/Stockholm:20260326T120000
DTSTAMP:20260425T030230
CREATED:20251028T093700Z
LAST-MODIFIED:20251028T093700Z
UID:10010528-1774522800-1774526400@www.djtk.se
SUMMARY:Tennis - Teknikträning Nivå 3+
DESCRIPTION:
URL:https://www.djtk.se/kalender/tennis-tekniktraning-niva-3/2026-03-26/
LOCATION:Djursholms Tennisklubb\, Danderydsvägen 4\, Djursholm\, 18268
END:VEVENT
BEGIN:VEVENT
DTSTART;TZID=Europe/Stockholm:20260325T120000
DTEND;TZID=Europe/Stockholm:20260325T140000
DTSTAMP:20260425T030230
CREATED:20251028T100228Z
LAST-MODIFIED:20251028T100228Z
UID:10013132-1774440000-1774447200@www.djtk.se
SUMMARY:Tennis - Team damdubbel omg. 2
DESCRIPTION:
URL:https://www.djtk.se/kalender/tennis-team-damdubbel-omg-2/2026-03-25/
LOCATION:Djursholms Tennisklubb\, Danderydsvägen 4\, Djursholm\, 18268
END:VEVENT
BEGIN:VEVENT
DTSTART;TZID=Europe/Stockholm:20260325T110000
DTEND;TZID=Europe/Stockholm:20260325T123000
DTSTAMP:20260425T030230
CREATED:20251028T094835Z
LAST-MODIFIED:20251028T094835Z
UID:10011830-1774436400-1774441800@www.djtk.se
SUMMARY:Padel - Stationsträning med 3 tränare. 90 min\, Nivå 4-6
DESCRIPTION:
URL:https://www.djtk.se/kalender/padel-stationstraning-med-3-tranare-90-min-niva-4-6/2026-03-25/
LOCATION:Djursholms Tennisklubb\, Danderydsvägen 4\, Djursholm\, 18268
END:VEVENT
BEGIN:VEVENT
DTSTART;TZID=Europe/Stockholm:20260324T120000
DTEND;TZID=Europe/Stockholm:20260324T130000
DTSTAMP:20260425T030230
CREATED:20251028T093442Z
LAST-MODIFIED:20251028T093442Z
UID:10010267-1774353600-1774357200@www.djtk.se
SUMMARY:Tennis - Matchspel Singel Nivå 3-4
DESCRIPTION:
URL:https://www.djtk.se/kalender/tennis-matchspel-singel-niva-3-4/2026-03-24/
LOCATION:Djursholms Tennisklubb\, Danderydsvägen 4\, Djursholm\, 18268
END:VEVENT
BEGIN:VEVENT
DTSTART;TZID=Europe/Stockholm:20260324T110000
DTEND;TZID=Europe/Stockholm:20260324T123000
DTSTAMP:20260425T030230
CREATED:20251028T094614Z
LAST-MODIFIED:20251028T094614Z
UID:10011570-1774350000-1774355400@www.djtk.se
SUMMARY:Padel - Matchspel med tränare. 90 min\, Nivå 5-7
DESCRIPTION:
URL:https://www.djtk.se/kalender/padel-matchspel-med-tranare-90-min-niva-5-7/2026-03-24/
LOCATION:Djursholms Tennisklubb\, Danderydsvägen 4\, Djursholm\, 18268
END:VEVENT
BEGIN:VEVENT
DTSTART;TZID=Europe/Stockholm:20260323T113000
DTEND;TZID=Europe/Stockholm:20260323T130000
DTSTAMP:20260425T030230
CREATED:20251028T094449Z
LAST-MODIFIED:20251028T094449Z
UID:10011309-1774265400-1774270800@www.djtk.se
SUMMARY:Padel- Matchspel med tränare 90 min\, nivå 3-5
DESCRIPTION:
URL:https://www.djtk.se/kalender/padel-matchspel-med-tranare-90-min-niva-3-5/2026-03-23/
LOCATION:Djursholms Tennisklubb\, Danderydsvägen 4\, Djursholm\, 18268
END:VEVENT
BEGIN:VEVENT
DTSTART;TZID=Europe/Stockholm:20260323T100000
DTEND;TZID=Europe/Stockholm:20260323T113000
DTSTAMP:20260425T030230
CREATED:20251028T094254Z
LAST-MODIFIED:20251028T094254Z
UID:10011048-1774260000-1774265400@www.djtk.se
SUMMARY:Padel - Seniorträning  55+\, 90 min
DESCRIPTION:
URL:https://www.djtk.se/kalender/padel-seniortraning-55-90-min/2026-03-23/
LOCATION:Djursholms Tennisklubb\, Danderydsvägen 4\, Djursholm\, 18268
END:VEVENT
BEGIN:VEVENT
DTSTART;TZID=Europe/Stockholm:20260320T113000
DTEND;TZID=Europe/Stockholm:20260320T130000
DTSTAMP:20260425T030230
CREATED:20251028T095652Z
LAST-MODIFIED:20251028T095652Z
UID:10012869-1774006200-1774011600@www.djtk.se
SUMMARY:Padel - Mexicanofredag by Gatorade. Nivå 4-6
DESCRIPTION:
URL:https://www.djtk.se/kalender/padel-mexicanofredag-by-gatorade-niva-4-6/2026-03-20/
LOCATION:Djursholms Tennisklubb\, Danderydsvägen 4\, Djursholm\, 18268
END:VEVENT
BEGIN:VEVENT
DTSTART;TZID=Europe/Stockholm:20260320T103000
DTEND;TZID=Europe/Stockholm:20260320T113000
DTSTAMP:20260425T030230
CREATED:20251028T095320Z
LAST-MODIFIED:20251028T095320Z
UID:10012609-1774002600-1774006200@www.djtk.se
SUMMARY:Padel - Seniorträning 55+\, 60 min.
DESCRIPTION:
URL:https://www.djtk.se/kalender/padel-seniortraning-55-60-min/2026-03-20/
LOCATION:Djursholms Tennisklubb\, Danderydsvägen 4\, Djursholm\, 18268
END:VEVENT
BEGIN:VEVENT
DTSTART;TZID=Europe/Stockholm:20260320T080000
DTEND;TZID=Europe/Stockholm:20260320T093000
DTSTAMP:20260425T030230
CREATED:20251028T095146Z
LAST-MODIFIED:20251028T095146Z
UID:10012349-1773993600-1773999000@www.djtk.se
SUMMARY:Padel - Vinnarbana med tränare. 90 min\, Nivå 6-7 Herrar
DESCRIPTION:
URL:https://www.djtk.se/kalender/padel-vinnarbana-med-tranare-90-min-niva-6-7-herrar/2026-03-20/
LOCATION:Djursholms Tennisklubb\, Danderydsvägen 4\, Djursholm\, 18268
END:VEVENT
BEGIN:VEVENT
DTSTART;TZID=Europe/Stockholm:20260319T120000
DTEND;TZID=Europe/Stockholm:20260319T130000
DTSTAMP:20260425T030230
CREATED:20251028T093828Z
LAST-MODIFIED:20251028T093828Z
UID:10010787-1773921600-1773925200@www.djtk.se
SUMMARY:Tennis - Matchspel singel Avancerad
DESCRIPTION:
URL:https://www.djtk.se/kalender/tennis-matchspel-singel-avancerad/2026-03-19/
LOCATION:Djursholms Tennisklubb\, Danderydsvägen 4\, Djursholm\, 18268
END:VEVENT
BEGIN:VEVENT
DTSTART;TZID=Europe/Stockholm:20260319T110000
DTEND;TZID=Europe/Stockholm:20260319T120000
DTSTAMP:20260425T030230
CREATED:20251028T095014Z
LAST-MODIFIED:20251028T095014Z
UID:10012089-1773918000-1773921600@www.djtk.se
SUMMARY:Padel - Drop in träning. 60 min\, Nivå 4-5
DESCRIPTION:
URL:https://www.djtk.se/kalender/padel-drop-in-traning-60-min-niva-4-5/2026-03-19/
LOCATION:Djursholms Tennisklubb\, Danderydsvägen 4\, Djursholm\, 18268
END:VEVENT
BEGIN:VEVENT
DTSTART;TZID=Europe/Stockholm:20260319T110000
DTEND;TZID=Europe/Stockholm:20260319T120000
DTSTAMP:20260425T030230
CREATED:20251028T093700Z
LAST-MODIFIED:20251028T093700Z
UID:10010527-1773918000-1773921600@www.djtk.se
SUMMARY:Tennis - Teknikträning Nivå 3+
DESCRIPTION:
URL:https://www.djtk.se/kalender/tennis-tekniktraning-niva-3/2026-03-19/
LOCATION:Djursholms Tennisklubb\, Danderydsvägen 4\, Djursholm\, 18268
END:VEVENT
BEGIN:VEVENT
DTSTART;TZID=Europe/Stockholm:20260318T120000
DTEND;TZID=Europe/Stockholm:20260318T140000
DTSTAMP:20260425T030230
CREATED:20251028T100228Z
LAST-MODIFIED:20251028T100228Z
UID:10013131-1773835200-1773842400@www.djtk.se
SUMMARY:Tennis - Team damdubbel omg. 2
DESCRIPTION:
URL:https://www.djtk.se/kalender/tennis-team-damdubbel-omg-2/2026-03-18/
LOCATION:Djursholms Tennisklubb\, Danderydsvägen 4\, Djursholm\, 18268
END:VEVENT
BEGIN:VEVENT
DTSTART;TZID=Europe/Stockholm:20260318T110000
DTEND;TZID=Europe/Stockholm:20260318T123000
DTSTAMP:20260425T030230
CREATED:20251028T094835Z
LAST-MODIFIED:20251028T094835Z
UID:10011829-1773831600-1773837000@www.djtk.se
SUMMARY:Padel - Stationsträning med 3 tränare. 90 min\, Nivå 4-6
DESCRIPTION:
URL:https://www.djtk.se/kalender/padel-stationstraning-med-3-tranare-90-min-niva-4-6/2026-03-18/
LOCATION:Djursholms Tennisklubb\, Danderydsvägen 4\, Djursholm\, 18268
END:VEVENT
BEGIN:VEVENT
DTSTART;TZID=Europe/Stockholm:20260317T120000
DTEND;TZID=Europe/Stockholm:20260317T130000
DTSTAMP:20260425T030230
CREATED:20251028T093442Z
LAST-MODIFIED:20251028T093442Z
UID:10010266-1773748800-1773752400@www.djtk.se
SUMMARY:Tennis - Matchspel Singel Nivå 3-4
DESCRIPTION:
URL:https://www.djtk.se/kalender/tennis-matchspel-singel-niva-3-4/2026-03-17/
LOCATION:Djursholms Tennisklubb\, Danderydsvägen 4\, Djursholm\, 18268
END:VEVENT
BEGIN:VEVENT
DTSTART;TZID=Europe/Stockholm:20260317T110000
DTEND;TZID=Europe/Stockholm:20260317T123000
DTSTAMP:20260425T030230
CREATED:20251028T094614Z
LAST-MODIFIED:20251028T094614Z
UID:10011569-1773745200-1773750600@www.djtk.se
SUMMARY:Padel - Matchspel med tränare. 90 min\, Nivå 5-7
DESCRIPTION:
URL:https://www.djtk.se/kalender/padel-matchspel-med-tranare-90-min-niva-5-7/2026-03-17/
LOCATION:Djursholms Tennisklubb\, Danderydsvägen 4\, Djursholm\, 18268
END:VEVENT
BEGIN:VEVENT
DTSTART;TZID=Europe/Stockholm:20260316T113000
DTEND;TZID=Europe/Stockholm:20260316T130000
DTSTAMP:20260425T030230
CREATED:20251028T094449Z
LAST-MODIFIED:20251028T094449Z
UID:10011308-1773660600-1773666000@www.djtk.se
SUMMARY:Padel- Matchspel med tränare 90 min\, nivå 3-5
DESCRIPTION:
URL:https://www.djtk.se/kalender/padel-matchspel-med-tranare-90-min-niva-3-5/2026-03-16/
LOCATION:Djursholms Tennisklubb\, Danderydsvägen 4\, Djursholm\, 18268
END:VEVENT
BEGIN:VEVENT
DTSTART;TZID=Europe/Stockholm:20260316T100000
DTEND;TZID=Europe/Stockholm:20260316T113000
DTSTAMP:20260425T030230
CREATED:20251028T094254Z
LAST-MODIFIED:20251028T094254Z
UID:10011047-1773655200-1773660600@www.djtk.se
SUMMARY:Padel - Seniorträning  55+\, 90 min
DESCRIPTION:
URL:https://www.djtk.se/kalender/padel-seniortraning-55-90-min/2026-03-16/
LOCATION:Djursholms Tennisklubb\, Danderydsvägen 4\, Djursholm\, 18268
END:VEVENT
BEGIN:VEVENT
DTSTART;TZID=Europe/Stockholm:20260313T113000
DTEND;TZID=Europe/Stockholm:20260313T130000
DTSTAMP:20260425T030230
CREATED:20251028T095652Z
LAST-MODIFIED:20251028T095652Z
UID:10012868-1773401400-1773406800@www.djtk.se
SUMMARY:Padel - Mexicanofredag by Gatorade. Nivå 4-6
DESCRIPTION:
URL:https://www.djtk.se/kalender/padel-mexicanofredag-by-gatorade-niva-4-6/2026-03-13/
LOCATION:Djursholms Tennisklubb\, Danderydsvägen 4\, Djursholm\, 18268
END:VEVENT
BEGIN:VEVENT
DTSTART;TZID=Europe/Stockholm:20260313T103000
DTEND;TZID=Europe/Stockholm:20260313T113000
DTSTAMP:20260425T030230
CREATED:20251028T095320Z
LAST-MODIFIED:20251028T095320Z
UID:10012608-1773397800-1773401400@www.djtk.se
SUMMARY:Padel - Seniorträning 55+\, 60 min.
DESCRIPTION:
URL:https://www.djtk.se/kalender/padel-seniortraning-55-60-min/2026-03-13/
LOCATION:Djursholms Tennisklubb\, Danderydsvägen 4\, Djursholm\, 18268
END:VEVENT
BEGIN:VEVENT
DTSTART;TZID=Europe/Stockholm:20260313T080000
DTEND;TZID=Europe/Stockholm:20260313T093000
DTSTAMP:20260425T030230
CREATED:20251028T095146Z
LAST-MODIFIED:20251028T095146Z
UID:10012348-1773388800-1773394200@www.djtk.se
SUMMARY:Padel - Vinnarbana med tränare. 90 min\, Nivå 6-7 Herrar
DESCRIPTION:
URL:https://www.djtk.se/kalender/padel-vinnarbana-med-tranare-90-min-niva-6-7-herrar/2026-03-13/
LOCATION:Djursholms Tennisklubb\, Danderydsvägen 4\, Djursholm\, 18268
END:VEVENT
BEGIN:VEVENT
DTSTART;TZID=Europe/Stockholm:20260312T120000
DTEND;TZID=Europe/Stockholm:20260312T130000
DTSTAMP:20260425T030230
CREATED:20251028T093828Z
LAST-MODIFIED:20251028T093828Z
UID:10010786-1773316800-1773320400@www.djtk.se
SUMMARY:Tennis - Matchspel singel Avancerad
DESCRIPTION:
URL:https://www.djtk.se/kalender/tennis-matchspel-singel-avancerad/2026-03-12/
LOCATION:Djursholms Tennisklubb\, Danderydsvägen 4\, Djursholm\, 18268
END:VEVENT
BEGIN:VEVENT
DTSTART;TZID=Europe/Stockholm:20260312T110000
DTEND;TZID=Europe/Stockholm:20260312T120000
DTSTAMP:20260425T030230
CREATED:20251028T095014Z
LAST-MODIFIED:20251028T095014Z
UID:10012088-1773313200-1773316800@www.djtk.se
SUMMARY:Padel - Drop in träning. 60 min\, Nivå 4-5
DESCRIPTION:
URL:https://www.djtk.se/kalender/padel-drop-in-traning-60-min-niva-4-5/2026-03-12/
LOCATION:Djursholms Tennisklubb\, Danderydsvägen 4\, Djursholm\, 18268
END:VEVENT
BEGIN:VEVENT
DTSTART;TZID=Europe/Stockholm:20260312T110000
DTEND;TZID=Europe/Stockholm:20260312T120000
DTSTAMP:20260425T030230
CREATED:20251028T093700Z
LAST-MODIFIED:20251028T093700Z
UID:10010526-1773313200-1773316800@www.djtk.se
SUMMARY:Tennis - Teknikträning Nivå 3+
DESCRIPTION:
URL:https://www.djtk.se/kalender/tennis-tekniktraning-niva-3/2026-03-12/
LOCATION:Djursholms Tennisklubb\, Danderydsvägen 4\, Djursholm\, 18268
END:VEVENT
END:VCALENDAR