BEGIN:VCALENDAR
VERSION:2.0
PRODID:-//Djursholms Tennisklubb - ECPv6.15.14//NONSGML v1.0//EN
CALSCALE:GREGORIAN
METHOD:PUBLISH
X-ORIGINAL-URL:https://www.djtk.se
X-WR-CALDESC:Händelser för Djursholms Tennisklubb
REFRESH-INTERVAL;VALUE=DURATION:PT1H
X-Robots-Tag:noindex
X-PUBLISHED-TTL:PT1H
BEGIN:VTIMEZONE
TZID:Europe/Stockholm
BEGIN:DAYLIGHT
TZOFFSETFROM:+0100
TZOFFSETTO:+0200
TZNAME:CEST
DTSTART:20250330T010000
END:DAYLIGHT
BEGIN:STANDARD
TZOFFSETFROM:+0200
TZOFFSETTO:+0100
TZNAME:CET
DTSTART:20251026T010000
END:STANDARD
BEGIN:DAYLIGHT
TZOFFSETFROM:+0100
TZOFFSETTO:+0200
TZNAME:CEST
DTSTART:20260329T010000
END:DAYLIGHT
BEGIN:STANDARD
TZOFFSETFROM:+0200
TZOFFSETTO:+0100
TZNAME:CET
DTSTART:20261025T010000
END:STANDARD
BEGIN:DAYLIGHT
TZOFFSETFROM:+0100
TZOFFSETTO:+0200
TZNAME:CEST
DTSTART:20270328T010000
END:DAYLIGHT
BEGIN:STANDARD
TZOFFSETFROM:+0200
TZOFFSETTO:+0100
TZNAME:CET
DTSTART:20271031T010000
END:STANDARD
END:VTIMEZONE
BEGIN:VEVENT
DTSTART;TZID=Europe/Stockholm:20260511T100000
DTEND;TZID=Europe/Stockholm:20260511T113000
DTSTAMP:20260425T012205
CREATED:20251028T094254Z
LAST-MODIFIED:20251028T094254Z
UID:10011055-1778493600-1778499000@www.djtk.se
SUMMARY:Padel - Seniorträning  55+\, 90 min
DESCRIPTION:
URL:https://www.djtk.se/kalender/padel-seniortraning-55-90-min/2026-05-11/
LOCATION:Djursholms Tennisklubb\, Danderydsvägen 4\, Djursholm\, 18268
END:VEVENT
BEGIN:VEVENT
DTSTART;TZID=Europe/Stockholm:20260511T113000
DTEND;TZID=Europe/Stockholm:20260511T130000
DTSTAMP:20260425T012205
CREATED:20251028T094449Z
LAST-MODIFIED:20251028T094449Z
UID:10011316-1778499000-1778504400@www.djtk.se
SUMMARY:Padel- Matchspel med tränare 90 min\, nivå 3-5
DESCRIPTION:
URL:https://www.djtk.se/kalender/padel-matchspel-med-tranare-90-min-niva-3-5/2026-05-11/
LOCATION:Djursholms Tennisklubb\, Danderydsvägen 4\, Djursholm\, 18268
END:VEVENT
BEGIN:VEVENT
DTSTART;TZID=Europe/Stockholm:20260512T110000
DTEND;TZID=Europe/Stockholm:20260512T123000
DTSTAMP:20260425T012205
CREATED:20251028T094614Z
LAST-MODIFIED:20251028T094614Z
UID:10011577-1778583600-1778589000@www.djtk.se
SUMMARY:Padel - Matchspel med tränare. 90 min\, Nivå 5-7
DESCRIPTION:
URL:https://www.djtk.se/kalender/padel-matchspel-med-tranare-90-min-niva-5-7/2026-05-12/
LOCATION:Djursholms Tennisklubb\, Danderydsvägen 4\, Djursholm\, 18268
END:VEVENT
BEGIN:VEVENT
DTSTART;TZID=Europe/Stockholm:20260512T120000
DTEND;TZID=Europe/Stockholm:20260512T130000
DTSTAMP:20260425T012205
CREATED:20251028T093442Z
LAST-MODIFIED:20251028T093442Z
UID:10010274-1778587200-1778590800@www.djtk.se
SUMMARY:Tennis - Matchspel Singel Nivå 3-4
DESCRIPTION:
URL:https://www.djtk.se/kalender/tennis-matchspel-singel-niva-3-4/2026-05-12/
LOCATION:Djursholms Tennisklubb\, Danderydsvägen 4\, Djursholm\, 18268
END:VEVENT
BEGIN:VEVENT
DTSTART;TZID=Europe/Stockholm:20260513T110000
DTEND;TZID=Europe/Stockholm:20260513T123000
DTSTAMP:20260425T012205
CREATED:20251028T094835Z
LAST-MODIFIED:20251028T094835Z
UID:10011837-1778670000-1778675400@www.djtk.se
SUMMARY:Padel - Stationsträning med 3 tränare. 90 min\, Nivå 4-6
DESCRIPTION:
URL:https://www.djtk.se/kalender/padel-stationstraning-med-3-tranare-90-min-niva-4-6/2026-05-13/
LOCATION:Djursholms Tennisklubb\, Danderydsvägen 4\, Djursholm\, 18268
END:VEVENT
BEGIN:VEVENT
DTSTART;TZID=Europe/Stockholm:20260513T120000
DTEND;TZID=Europe/Stockholm:20260513T140000
DTSTAMP:20260425T012205
CREATED:20251028T100228Z
LAST-MODIFIED:20251028T100228Z
UID:10013139-1778673600-1778680800@www.djtk.se
SUMMARY:Tennis - Team damdubbel omg. 2
DESCRIPTION:
URL:https://www.djtk.se/kalender/tennis-team-damdubbel-omg-2/2026-05-13/
LOCATION:Djursholms Tennisklubb\, Danderydsvägen 4\, Djursholm\, 18268
END:VEVENT
BEGIN:VEVENT
DTSTART;TZID=Europe/Stockholm:20260514T110000
DTEND;TZID=Europe/Stockholm:20260514T120000
DTSTAMP:20260425T012205
CREATED:20251028T093700Z
LAST-MODIFIED:20251028T093700Z
UID:10010535-1778756400-1778760000@www.djtk.se
SUMMARY:Tennis - Teknikträning Nivå 3+
DESCRIPTION:
URL:https://www.djtk.se/kalender/tennis-tekniktraning-niva-3/2026-05-14/
LOCATION:Djursholms Tennisklubb\, Danderydsvägen 4\, Djursholm\, 18268
END:VEVENT
BEGIN:VEVENT
DTSTART;TZID=Europe/Stockholm:20260514T110000
DTEND;TZID=Europe/Stockholm:20260514T120000
DTSTAMP:20260425T012205
CREATED:20251028T095014Z
LAST-MODIFIED:20251028T095014Z
UID:10012097-1778756400-1778760000@www.djtk.se
SUMMARY:Padel - Drop in träning. 60 min\, Nivå 4-5
DESCRIPTION:
URL:https://www.djtk.se/kalender/padel-drop-in-traning-60-min-niva-4-5/2026-05-14/
LOCATION:Djursholms Tennisklubb\, Danderydsvägen 4\, Djursholm\, 18268
END:VEVENT
BEGIN:VEVENT
DTSTART;TZID=Europe/Stockholm:20260514T120000
DTEND;TZID=Europe/Stockholm:20260514T130000
DTSTAMP:20260425T012205
CREATED:20251028T093828Z
LAST-MODIFIED:20251028T093828Z
UID:10010795-1778760000-1778763600@www.djtk.se
SUMMARY:Tennis - Matchspel singel Avancerad
DESCRIPTION:
URL:https://www.djtk.se/kalender/tennis-matchspel-singel-avancerad/2026-05-14/
LOCATION:Djursholms Tennisklubb\, Danderydsvägen 4\, Djursholm\, 18268
END:VEVENT
BEGIN:VEVENT
DTSTART;TZID=Europe/Stockholm:20260515T080000
DTEND;TZID=Europe/Stockholm:20260515T093000
DTSTAMP:20260425T012205
CREATED:20251028T095146Z
LAST-MODIFIED:20251028T095146Z
UID:10012357-1778832000-1778837400@www.djtk.se
SUMMARY:Padel - Vinnarbana med tränare. 90 min\, Nivå 6-7 Herrar
DESCRIPTION:
URL:https://www.djtk.se/kalender/padel-vinnarbana-med-tranare-90-min-niva-6-7-herrar/2026-05-15/
LOCATION:Djursholms Tennisklubb\, Danderydsvägen 4\, Djursholm\, 18268
END:VEVENT
BEGIN:VEVENT
DTSTART;TZID=Europe/Stockholm:20260515T103000
DTEND;TZID=Europe/Stockholm:20260515T113000
DTSTAMP:20260425T012205
CREATED:20251028T095320Z
LAST-MODIFIED:20251028T095320Z
UID:10012617-1778841000-1778844600@www.djtk.se
SUMMARY:Padel - Seniorträning 55+\, 60 min.
DESCRIPTION:
URL:https://www.djtk.se/kalender/padel-seniortraning-55-60-min/2026-05-15/
LOCATION:Djursholms Tennisklubb\, Danderydsvägen 4\, Djursholm\, 18268
END:VEVENT
BEGIN:VEVENT
DTSTART;TZID=Europe/Stockholm:20260515T113000
DTEND;TZID=Europe/Stockholm:20260515T130000
DTSTAMP:20260425T012205
CREATED:20251028T095652Z
LAST-MODIFIED:20251028T095652Z
UID:10012877-1778844600-1778850000@www.djtk.se
SUMMARY:Padel - Mexicanofredag by Gatorade. Nivå 4-6
DESCRIPTION:
URL:https://www.djtk.se/kalender/padel-mexicanofredag-by-gatorade-niva-4-6/2026-05-15/
LOCATION:Djursholms Tennisklubb\, Danderydsvägen 4\, Djursholm\, 18268
END:VEVENT
BEGIN:VEVENT
DTSTART;TZID=Europe/Stockholm:20260518T100000
DTEND;TZID=Europe/Stockholm:20260518T113000
DTSTAMP:20260425T012205
CREATED:20251028T094254Z
LAST-MODIFIED:20251028T094254Z
UID:10011056-1779098400-1779103800@www.djtk.se
SUMMARY:Padel - Seniorträning  55+\, 90 min
DESCRIPTION:
URL:https://www.djtk.se/kalender/padel-seniortraning-55-90-min/2026-05-18/
LOCATION:Djursholms Tennisklubb\, Danderydsvägen 4\, Djursholm\, 18268
END:VEVENT
BEGIN:VEVENT
DTSTART;TZID=Europe/Stockholm:20260518T113000
DTEND;TZID=Europe/Stockholm:20260518T130000
DTSTAMP:20260425T012205
CREATED:20251028T094449Z
LAST-MODIFIED:20251028T094449Z
UID:10011317-1779103800-1779109200@www.djtk.se
SUMMARY:Padel- Matchspel med tränare 90 min\, nivå 3-5
DESCRIPTION:
URL:https://www.djtk.se/kalender/padel-matchspel-med-tranare-90-min-niva-3-5/2026-05-18/
LOCATION:Djursholms Tennisklubb\, Danderydsvägen 4\, Djursholm\, 18268
END:VEVENT
BEGIN:VEVENT
DTSTART;TZID=Europe/Stockholm:20260519T110000
DTEND;TZID=Europe/Stockholm:20260519T123000
DTSTAMP:20260425T012205
CREATED:20251028T094614Z
LAST-MODIFIED:20251028T094614Z
UID:10011578-1779188400-1779193800@www.djtk.se
SUMMARY:Padel - Matchspel med tränare. 90 min\, Nivå 5-7
DESCRIPTION:
URL:https://www.djtk.se/kalender/padel-matchspel-med-tranare-90-min-niva-5-7/2026-05-19/
LOCATION:Djursholms Tennisklubb\, Danderydsvägen 4\, Djursholm\, 18268
END:VEVENT
BEGIN:VEVENT
DTSTART;TZID=Europe/Stockholm:20260519T120000
DTEND;TZID=Europe/Stockholm:20260519T130000
DTSTAMP:20260425T012205
CREATED:20251028T093442Z
LAST-MODIFIED:20251028T093442Z
UID:10010275-1779192000-1779195600@www.djtk.se
SUMMARY:Tennis - Matchspel Singel Nivå 3-4
DESCRIPTION:
URL:https://www.djtk.se/kalender/tennis-matchspel-singel-niva-3-4/2026-05-19/
LOCATION:Djursholms Tennisklubb\, Danderydsvägen 4\, Djursholm\, 18268
END:VEVENT
BEGIN:VEVENT
DTSTART;TZID=Europe/Stockholm:20260520T110000
DTEND;TZID=Europe/Stockholm:20260520T123000
DTSTAMP:20260425T012205
CREATED:20251028T094835Z
LAST-MODIFIED:20251028T094835Z
UID:10011838-1779274800-1779280200@www.djtk.se
SUMMARY:Padel - Stationsträning med 3 tränare. 90 min\, Nivå 4-6
DESCRIPTION:
URL:https://www.djtk.se/kalender/padel-stationstraning-med-3-tranare-90-min-niva-4-6/2026-05-20/
LOCATION:Djursholms Tennisklubb\, Danderydsvägen 4\, Djursholm\, 18268
END:VEVENT
BEGIN:VEVENT
DTSTART;TZID=Europe/Stockholm:20260520T120000
DTEND;TZID=Europe/Stockholm:20260520T140000
DTSTAMP:20260425T012205
CREATED:20251028T100228Z
LAST-MODIFIED:20251028T100228Z
UID:10013140-1779278400-1779285600@www.djtk.se
SUMMARY:Tennis - Team damdubbel omg. 2
DESCRIPTION:
URL:https://www.djtk.se/kalender/tennis-team-damdubbel-omg-2/2026-05-20/
LOCATION:Djursholms Tennisklubb\, Danderydsvägen 4\, Djursholm\, 18268
END:VEVENT
BEGIN:VEVENT
DTSTART;TZID=Europe/Stockholm:20260521T110000
DTEND;TZID=Europe/Stockholm:20260521T120000
DTSTAMP:20260425T012205
CREATED:20251028T093700Z
LAST-MODIFIED:20251028T093700Z
UID:10010536-1779361200-1779364800@www.djtk.se
SUMMARY:Tennis - Teknikträning Nivå 3+
DESCRIPTION:
URL:https://www.djtk.se/kalender/tennis-tekniktraning-niva-3/2026-05-21/
LOCATION:Djursholms Tennisklubb\, Danderydsvägen 4\, Djursholm\, 18268
END:VEVENT
BEGIN:VEVENT
DTSTART;TZID=Europe/Stockholm:20260521T110000
DTEND;TZID=Europe/Stockholm:20260521T120000
DTSTAMP:20260425T012205
CREATED:20251028T095014Z
LAST-MODIFIED:20251028T095014Z
UID:10012098-1779361200-1779364800@www.djtk.se
SUMMARY:Padel - Drop in träning. 60 min\, Nivå 4-5
DESCRIPTION:
URL:https://www.djtk.se/kalender/padel-drop-in-traning-60-min-niva-4-5/2026-05-21/
LOCATION:Djursholms Tennisklubb\, Danderydsvägen 4\, Djursholm\, 18268
END:VEVENT
BEGIN:VEVENT
DTSTART;TZID=Europe/Stockholm:20260521T120000
DTEND;TZID=Europe/Stockholm:20260521T130000
DTSTAMP:20260425T012205
CREATED:20251028T093828Z
LAST-MODIFIED:20251028T093828Z
UID:10010796-1779364800-1779368400@www.djtk.se
SUMMARY:Tennis - Matchspel singel Avancerad
DESCRIPTION:
URL:https://www.djtk.se/kalender/tennis-matchspel-singel-avancerad/2026-05-21/
LOCATION:Djursholms Tennisklubb\, Danderydsvägen 4\, Djursholm\, 18268
END:VEVENT
BEGIN:VEVENT
DTSTART;TZID=Europe/Stockholm:20260522T080000
DTEND;TZID=Europe/Stockholm:20260522T093000
DTSTAMP:20260425T012205
CREATED:20251028T095146Z
LAST-MODIFIED:20251028T095146Z
UID:10012358-1779436800-1779442200@www.djtk.se
SUMMARY:Padel - Vinnarbana med tränare. 90 min\, Nivå 6-7 Herrar
DESCRIPTION:
URL:https://www.djtk.se/kalender/padel-vinnarbana-med-tranare-90-min-niva-6-7-herrar/2026-05-22/
LOCATION:Djursholms Tennisklubb\, Danderydsvägen 4\, Djursholm\, 18268
END:VEVENT
BEGIN:VEVENT
DTSTART;TZID=Europe/Stockholm:20260522T103000
DTEND;TZID=Europe/Stockholm:20260522T113000
DTSTAMP:20260425T012205
CREATED:20251028T095320Z
LAST-MODIFIED:20251028T095320Z
UID:10012618-1779445800-1779449400@www.djtk.se
SUMMARY:Padel - Seniorträning 55+\, 60 min.
DESCRIPTION:
URL:https://www.djtk.se/kalender/padel-seniortraning-55-60-min/2026-05-22/
LOCATION:Djursholms Tennisklubb\, Danderydsvägen 4\, Djursholm\, 18268
END:VEVENT
BEGIN:VEVENT
DTSTART;TZID=Europe/Stockholm:20260522T113000
DTEND;TZID=Europe/Stockholm:20260522T130000
DTSTAMP:20260425T012205
CREATED:20251028T095652Z
LAST-MODIFIED:20251028T095652Z
UID:10012878-1779449400-1779454800@www.djtk.se
SUMMARY:Padel - Mexicanofredag by Gatorade. Nivå 4-6
DESCRIPTION:
URL:https://www.djtk.se/kalender/padel-mexicanofredag-by-gatorade-niva-4-6/2026-05-22/
LOCATION:Djursholms Tennisklubb\, Danderydsvägen 4\, Djursholm\, 18268
END:VEVENT
BEGIN:VEVENT
DTSTART;TZID=Europe/Stockholm:20260525T100000
DTEND;TZID=Europe/Stockholm:20260525T113000
DTSTAMP:20260425T012205
CREATED:20251028T094254Z
LAST-MODIFIED:20251028T094254Z
UID:10011057-1779703200-1779708600@www.djtk.se
SUMMARY:Padel - Seniorträning  55+\, 90 min
DESCRIPTION:
URL:https://www.djtk.se/kalender/padel-seniortraning-55-90-min/2026-05-25/
LOCATION:Djursholms Tennisklubb\, Danderydsvägen 4\, Djursholm\, 18268
END:VEVENT
BEGIN:VEVENT
DTSTART;TZID=Europe/Stockholm:20260525T113000
DTEND;TZID=Europe/Stockholm:20260525T130000
DTSTAMP:20260425T012205
CREATED:20251028T094449Z
LAST-MODIFIED:20251028T094449Z
UID:10011318-1779708600-1779714000@www.djtk.se
SUMMARY:Padel- Matchspel med tränare 90 min\, nivå 3-5
DESCRIPTION:
URL:https://www.djtk.se/kalender/padel-matchspel-med-tranare-90-min-niva-3-5/2026-05-25/
LOCATION:Djursholms Tennisklubb\, Danderydsvägen 4\, Djursholm\, 18268
END:VEVENT
BEGIN:VEVENT
DTSTART;TZID=Europe/Stockholm:20260526T110000
DTEND;TZID=Europe/Stockholm:20260526T123000
DTSTAMP:20260425T012205
CREATED:20251028T094614Z
LAST-MODIFIED:20251028T094614Z
UID:10011579-1779793200-1779798600@www.djtk.se
SUMMARY:Padel - Matchspel med tränare. 90 min\, Nivå 5-7
DESCRIPTION:
URL:https://www.djtk.se/kalender/padel-matchspel-med-tranare-90-min-niva-5-7/2026-05-26/
LOCATION:Djursholms Tennisklubb\, Danderydsvägen 4\, Djursholm\, 18268
END:VEVENT
BEGIN:VEVENT
DTSTART;TZID=Europe/Stockholm:20260526T120000
DTEND;TZID=Europe/Stockholm:20260526T130000
DTSTAMP:20260425T012205
CREATED:20251028T093442Z
LAST-MODIFIED:20251028T093442Z
UID:10010276-1779796800-1779800400@www.djtk.se
SUMMARY:Tennis - Matchspel Singel Nivå 3-4
DESCRIPTION:
URL:https://www.djtk.se/kalender/tennis-matchspel-singel-niva-3-4/2026-05-26/
LOCATION:Djursholms Tennisklubb\, Danderydsvägen 4\, Djursholm\, 18268
END:VEVENT
BEGIN:VEVENT
DTSTART;TZID=Europe/Stockholm:20260527T110000
DTEND;TZID=Europe/Stockholm:20260527T123000
DTSTAMP:20260425T012205
CREATED:20251028T094835Z
LAST-MODIFIED:20251028T094835Z
UID:10011839-1779879600-1779885000@www.djtk.se
SUMMARY:Padel - Stationsträning med 3 tränare. 90 min\, Nivå 4-6
DESCRIPTION:
URL:https://www.djtk.se/kalender/padel-stationstraning-med-3-tranare-90-min-niva-4-6/2026-05-27/
LOCATION:Djursholms Tennisklubb\, Danderydsvägen 4\, Djursholm\, 18268
END:VEVENT
BEGIN:VEVENT
DTSTART;TZID=Europe/Stockholm:20260527T120000
DTEND;TZID=Europe/Stockholm:20260527T140000
DTSTAMP:20260425T012205
CREATED:20251028T100228Z
LAST-MODIFIED:20251028T100228Z
UID:10013141-1779883200-1779890400@www.djtk.se
SUMMARY:Tennis - Team damdubbel omg. 2
DESCRIPTION:
URL:https://www.djtk.se/kalender/tennis-team-damdubbel-omg-2/2026-05-27/
LOCATION:Djursholms Tennisklubb\, Danderydsvägen 4\, Djursholm\, 18268
END:VEVENT
END:VCALENDAR