BEGIN:VCALENDAR
VERSION:2.0
PRODID:-//Djursholms Tennisklubb - ECPv6.15.14//NONSGML v1.0//EN
CALSCALE:GREGORIAN
METHOD:PUBLISH
X-WR-CALNAME:Djursholms Tennisklubb
X-ORIGINAL-URL:https://www.djtk.se
X-WR-CALDESC:Händelser för Djursholms Tennisklubb
REFRESH-INTERVAL;VALUE=DURATION:PT1H
X-Robots-Tag:noindex
X-PUBLISHED-TTL:PT1H
BEGIN:VTIMEZONE
TZID:Europe/Stockholm
BEGIN:DAYLIGHT
TZOFFSETFROM:+0100
TZOFFSETTO:+0200
TZNAME:CEST
DTSTART:20250330T010000
END:DAYLIGHT
BEGIN:STANDARD
TZOFFSETFROM:+0200
TZOFFSETTO:+0100
TZNAME:CET
DTSTART:20251026T010000
END:STANDARD
BEGIN:DAYLIGHT
TZOFFSETFROM:+0100
TZOFFSETTO:+0200
TZNAME:CEST
DTSTART:20260329T010000
END:DAYLIGHT
BEGIN:STANDARD
TZOFFSETFROM:+0200
TZOFFSETTO:+0100
TZNAME:CET
DTSTART:20261025T010000
END:STANDARD
BEGIN:DAYLIGHT
TZOFFSETFROM:+0100
TZOFFSETTO:+0200
TZNAME:CEST
DTSTART:20270328T010000
END:DAYLIGHT
BEGIN:STANDARD
TZOFFSETFROM:+0200
TZOFFSETTO:+0100
TZNAME:CET
DTSTART:20271031T010000
END:STANDARD
END:VTIMEZONE
BEGIN:VEVENT
DTSTART;TZID=Europe/Stockholm:20260907T100000
DTEND;TZID=Europe/Stockholm:20260907T113000
DTSTAMP:20260426T050548
CREATED:20251028T094254Z
LAST-MODIFIED:20251028T094254Z
UID:10011072-1788775200-1788780600@www.djtk.se
SUMMARY:Padel - Seniorträning  55+\, 90 min
DESCRIPTION:
URL:https://www.djtk.se/kalender/padel-seniortraning-55-90-min/2026-09-07/
LOCATION:Djursholms Tennisklubb\, Danderydsvägen 4\, Djursholm\, 18268
END:VEVENT
BEGIN:VEVENT
DTSTART;TZID=Europe/Stockholm:20260907T113000
DTEND;TZID=Europe/Stockholm:20260907T130000
DTSTAMP:20260426T050548
CREATED:20251028T094449Z
LAST-MODIFIED:20251028T094449Z
UID:10011333-1788780600-1788786000@www.djtk.se
SUMMARY:Padel- Matchspel med tränare 90 min\, nivå 3-5
DESCRIPTION:
URL:https://www.djtk.se/kalender/padel-matchspel-med-tranare-90-min-niva-3-5/2026-09-07/
LOCATION:Djursholms Tennisklubb\, Danderydsvägen 4\, Djursholm\, 18268
END:VEVENT
BEGIN:VEVENT
DTSTART;TZID=Europe/Stockholm:20260908T110000
DTEND;TZID=Europe/Stockholm:20260908T123000
DTSTAMP:20260426T050548
CREATED:20251028T094614Z
LAST-MODIFIED:20251028T094614Z
UID:10011594-1788865200-1788870600@www.djtk.se
SUMMARY:Padel - Matchspel med tränare. 90 min\, Nivå 5-7
DESCRIPTION:
URL:https://www.djtk.se/kalender/padel-matchspel-med-tranare-90-min-niva-5-7/2026-09-08/
LOCATION:Djursholms Tennisklubb\, Danderydsvägen 4\, Djursholm\, 18268
END:VEVENT
BEGIN:VEVENT
DTSTART;TZID=Europe/Stockholm:20260908T120000
DTEND;TZID=Europe/Stockholm:20260908T130000
DTSTAMP:20260426T050548
CREATED:20251028T093442Z
LAST-MODIFIED:20251028T093442Z
UID:10010291-1788868800-1788872400@www.djtk.se
SUMMARY:Tennis - Matchspel Singel Nivå 3-4
DESCRIPTION:
URL:https://www.djtk.se/kalender/tennis-matchspel-singel-niva-3-4/2026-09-08/
LOCATION:Djursholms Tennisklubb\, Danderydsvägen 4\, Djursholm\, 18268
END:VEVENT
BEGIN:VEVENT
DTSTART;TZID=Europe/Stockholm:20260909T110000
DTEND;TZID=Europe/Stockholm:20260909T123000
DTSTAMP:20260426T050548
CREATED:20251028T094835Z
LAST-MODIFIED:20251028T094835Z
UID:10011854-1788951600-1788957000@www.djtk.se
SUMMARY:Padel - Stationsträning med 3 tränare. 90 min\, Nivå 4-6
DESCRIPTION:
URL:https://www.djtk.se/kalender/padel-stationstraning-med-3-tranare-90-min-niva-4-6/2026-09-09/
LOCATION:Djursholms Tennisklubb\, Danderydsvägen 4\, Djursholm\, 18268
END:VEVENT
BEGIN:VEVENT
DTSTART;TZID=Europe/Stockholm:20260909T120000
DTEND;TZID=Europe/Stockholm:20260909T140000
DTSTAMP:20260426T050548
CREATED:20251028T100228Z
LAST-MODIFIED:20251028T100228Z
UID:10013156-1788955200-1788962400@www.djtk.se
SUMMARY:Tennis - Team damdubbel omg. 2
DESCRIPTION:
URL:https://www.djtk.se/kalender/tennis-team-damdubbel-omg-2/2026-09-09/
LOCATION:Djursholms Tennisklubb\, Danderydsvägen 4\, Djursholm\, 18268
END:VEVENT
BEGIN:VEVENT
DTSTART;TZID=Europe/Stockholm:20260910T110000
DTEND;TZID=Europe/Stockholm:20260910T120000
DTSTAMP:20260426T050548
CREATED:20251028T093700Z
LAST-MODIFIED:20251028T093700Z
UID:10010552-1789038000-1789041600@www.djtk.se
SUMMARY:Tennis - Teknikträning Nivå 3+
DESCRIPTION:
URL:https://www.djtk.se/kalender/tennis-tekniktraning-niva-3/2026-09-10/
LOCATION:Djursholms Tennisklubb\, Danderydsvägen 4\, Djursholm\, 18268
END:VEVENT
BEGIN:VEVENT
DTSTART;TZID=Europe/Stockholm:20260910T110000
DTEND;TZID=Europe/Stockholm:20260910T120000
DTSTAMP:20260426T050548
CREATED:20251028T095014Z
LAST-MODIFIED:20251028T095014Z
UID:10012114-1789038000-1789041600@www.djtk.se
SUMMARY:Padel - Drop in träning. 60 min\, Nivå 4-5
DESCRIPTION:
URL:https://www.djtk.se/kalender/padel-drop-in-traning-60-min-niva-4-5/2026-09-10/
LOCATION:Djursholms Tennisklubb\, Danderydsvägen 4\, Djursholm\, 18268
END:VEVENT
BEGIN:VEVENT
DTSTART;TZID=Europe/Stockholm:20260910T120000
DTEND;TZID=Europe/Stockholm:20260910T130000
DTSTAMP:20260426T050548
CREATED:20251028T093828Z
LAST-MODIFIED:20251028T093828Z
UID:10010812-1789041600-1789045200@www.djtk.se
SUMMARY:Tennis - Matchspel singel Avancerad
DESCRIPTION:
URL:https://www.djtk.se/kalender/tennis-matchspel-singel-avancerad/2026-09-10/
LOCATION:Djursholms Tennisklubb\, Danderydsvägen 4\, Djursholm\, 18268
END:VEVENT
BEGIN:VEVENT
DTSTART;TZID=Europe/Stockholm:20260911T080000
DTEND;TZID=Europe/Stockholm:20260911T093000
DTSTAMP:20260426T050548
CREATED:20251028T095146Z
LAST-MODIFIED:20251028T095146Z
UID:10012374-1789113600-1789119000@www.djtk.se
SUMMARY:Padel - Vinnarbana med tränare. 90 min\, Nivå 6-7 Herrar
DESCRIPTION:
URL:https://www.djtk.se/kalender/padel-vinnarbana-med-tranare-90-min-niva-6-7-herrar/2026-09-11/
LOCATION:Djursholms Tennisklubb\, Danderydsvägen 4\, Djursholm\, 18268
END:VEVENT
BEGIN:VEVENT
DTSTART;TZID=Europe/Stockholm:20260911T103000
DTEND;TZID=Europe/Stockholm:20260911T113000
DTSTAMP:20260426T050548
CREATED:20251028T095320Z
LAST-MODIFIED:20251028T095320Z
UID:10012634-1789122600-1789126200@www.djtk.se
SUMMARY:Padel - Seniorträning 55+\, 60 min.
DESCRIPTION:
URL:https://www.djtk.se/kalender/padel-seniortraning-55-60-min/2026-09-11/
LOCATION:Djursholms Tennisklubb\, Danderydsvägen 4\, Djursholm\, 18268
END:VEVENT
BEGIN:VEVENT
DTSTART;TZID=Europe/Stockholm:20260911T113000
DTEND;TZID=Europe/Stockholm:20260911T130000
DTSTAMP:20260426T050548
CREATED:20251028T095652Z
LAST-MODIFIED:20251028T095652Z
UID:10012894-1789126200-1789131600@www.djtk.se
SUMMARY:Padel - Mexicanofredag by Gatorade. Nivå 4-6
DESCRIPTION:
URL:https://www.djtk.se/kalender/padel-mexicanofredag-by-gatorade-niva-4-6/2026-09-11/
LOCATION:Djursholms Tennisklubb\, Danderydsvägen 4\, Djursholm\, 18268
END:VEVENT
BEGIN:VEVENT
DTSTART;TZID=Europe/Stockholm:20260914T100000
DTEND;TZID=Europe/Stockholm:20260914T113000
DTSTAMP:20260426T050548
CREATED:20251028T094254Z
LAST-MODIFIED:20251028T094254Z
UID:10011073-1789380000-1789385400@www.djtk.se
SUMMARY:Padel - Seniorträning  55+\, 90 min
DESCRIPTION:
URL:https://www.djtk.se/kalender/padel-seniortraning-55-90-min/2026-09-14/
LOCATION:Djursholms Tennisklubb\, Danderydsvägen 4\, Djursholm\, 18268
END:VEVENT
BEGIN:VEVENT
DTSTART;TZID=Europe/Stockholm:20260914T113000
DTEND;TZID=Europe/Stockholm:20260914T130000
DTSTAMP:20260426T050548
CREATED:20251028T094449Z
LAST-MODIFIED:20251028T094449Z
UID:10011334-1789385400-1789390800@www.djtk.se
SUMMARY:Padel- Matchspel med tränare 90 min\, nivå 3-5
DESCRIPTION:
URL:https://www.djtk.se/kalender/padel-matchspel-med-tranare-90-min-niva-3-5/2026-09-14/
LOCATION:Djursholms Tennisklubb\, Danderydsvägen 4\, Djursholm\, 18268
END:VEVENT
BEGIN:VEVENT
DTSTART;TZID=Europe/Stockholm:20260915T110000
DTEND;TZID=Europe/Stockholm:20260915T123000
DTSTAMP:20260426T050548
CREATED:20251028T094614Z
LAST-MODIFIED:20251028T094614Z
UID:10011595-1789470000-1789475400@www.djtk.se
SUMMARY:Padel - Matchspel med tränare. 90 min\, Nivå 5-7
DESCRIPTION:
URL:https://www.djtk.se/kalender/padel-matchspel-med-tranare-90-min-niva-5-7/2026-09-15/
LOCATION:Djursholms Tennisklubb\, Danderydsvägen 4\, Djursholm\, 18268
END:VEVENT
BEGIN:VEVENT
DTSTART;TZID=Europe/Stockholm:20260915T120000
DTEND;TZID=Europe/Stockholm:20260915T130000
DTSTAMP:20260426T050548
CREATED:20251028T093442Z
LAST-MODIFIED:20251028T093442Z
UID:10010292-1789473600-1789477200@www.djtk.se
SUMMARY:Tennis - Matchspel Singel Nivå 3-4
DESCRIPTION:
URL:https://www.djtk.se/kalender/tennis-matchspel-singel-niva-3-4/2026-09-15/
LOCATION:Djursholms Tennisklubb\, Danderydsvägen 4\, Djursholm\, 18268
END:VEVENT
BEGIN:VEVENT
DTSTART;TZID=Europe/Stockholm:20260916T110000
DTEND;TZID=Europe/Stockholm:20260916T123000
DTSTAMP:20260426T050548
CREATED:20251028T094835Z
LAST-MODIFIED:20251028T094835Z
UID:10011855-1789556400-1789561800@www.djtk.se
SUMMARY:Padel - Stationsträning med 3 tränare. 90 min\, Nivå 4-6
DESCRIPTION:
URL:https://www.djtk.se/kalender/padel-stationstraning-med-3-tranare-90-min-niva-4-6/2026-09-16/
LOCATION:Djursholms Tennisklubb\, Danderydsvägen 4\, Djursholm\, 18268
END:VEVENT
BEGIN:VEVENT
DTSTART;TZID=Europe/Stockholm:20260916T120000
DTEND;TZID=Europe/Stockholm:20260916T140000
DTSTAMP:20260426T050548
CREATED:20251028T100228Z
LAST-MODIFIED:20251028T100228Z
UID:10013157-1789560000-1789567200@www.djtk.se
SUMMARY:Tennis - Team damdubbel omg. 2
DESCRIPTION:
URL:https://www.djtk.se/kalender/tennis-team-damdubbel-omg-2/2026-09-16/
LOCATION:Djursholms Tennisklubb\, Danderydsvägen 4\, Djursholm\, 18268
END:VEVENT
BEGIN:VEVENT
DTSTART;TZID=Europe/Stockholm:20260917T110000
DTEND;TZID=Europe/Stockholm:20260917T120000
DTSTAMP:20260426T050548
CREATED:20251028T093700Z
LAST-MODIFIED:20251028T093700Z
UID:10010553-1789642800-1789646400@www.djtk.se
SUMMARY:Tennis - Teknikträning Nivå 3+
DESCRIPTION:
URL:https://www.djtk.se/kalender/tennis-tekniktraning-niva-3/2026-09-17/
LOCATION:Djursholms Tennisklubb\, Danderydsvägen 4\, Djursholm\, 18268
END:VEVENT
BEGIN:VEVENT
DTSTART;TZID=Europe/Stockholm:20260917T110000
DTEND;TZID=Europe/Stockholm:20260917T120000
DTSTAMP:20260426T050548
CREATED:20251028T095014Z
LAST-MODIFIED:20251028T095014Z
UID:10012115-1789642800-1789646400@www.djtk.se
SUMMARY:Padel - Drop in träning. 60 min\, Nivå 4-5
DESCRIPTION:
URL:https://www.djtk.se/kalender/padel-drop-in-traning-60-min-niva-4-5/2026-09-17/
LOCATION:Djursholms Tennisklubb\, Danderydsvägen 4\, Djursholm\, 18268
END:VEVENT
BEGIN:VEVENT
DTSTART;TZID=Europe/Stockholm:20260917T120000
DTEND;TZID=Europe/Stockholm:20260917T130000
DTSTAMP:20260426T050548
CREATED:20251028T093828Z
LAST-MODIFIED:20251028T093828Z
UID:10010813-1789646400-1789650000@www.djtk.se
SUMMARY:Tennis - Matchspel singel Avancerad
DESCRIPTION:
URL:https://www.djtk.se/kalender/tennis-matchspel-singel-avancerad/2026-09-17/
LOCATION:Djursholms Tennisklubb\, Danderydsvägen 4\, Djursholm\, 18268
END:VEVENT
BEGIN:VEVENT
DTSTART;TZID=Europe/Stockholm:20260918T080000
DTEND;TZID=Europe/Stockholm:20260918T093000
DTSTAMP:20260426T050548
CREATED:20251028T095146Z
LAST-MODIFIED:20251028T095146Z
UID:10012375-1789718400-1789723800@www.djtk.se
SUMMARY:Padel - Vinnarbana med tränare. 90 min\, Nivå 6-7 Herrar
DESCRIPTION:
URL:https://www.djtk.se/kalender/padel-vinnarbana-med-tranare-90-min-niva-6-7-herrar/2026-09-18/
LOCATION:Djursholms Tennisklubb\, Danderydsvägen 4\, Djursholm\, 18268
END:VEVENT
BEGIN:VEVENT
DTSTART;TZID=Europe/Stockholm:20260918T103000
DTEND;TZID=Europe/Stockholm:20260918T113000
DTSTAMP:20260426T050548
CREATED:20251028T095320Z
LAST-MODIFIED:20251028T095320Z
UID:10012635-1789727400-1789731000@www.djtk.se
SUMMARY:Padel - Seniorträning 55+\, 60 min.
DESCRIPTION:
URL:https://www.djtk.se/kalender/padel-seniortraning-55-60-min/2026-09-18/
LOCATION:Djursholms Tennisklubb\, Danderydsvägen 4\, Djursholm\, 18268
END:VEVENT
BEGIN:VEVENT
DTSTART;TZID=Europe/Stockholm:20260918T113000
DTEND;TZID=Europe/Stockholm:20260918T130000
DTSTAMP:20260426T050548
CREATED:20251028T095652Z
LAST-MODIFIED:20251028T095652Z
UID:10012895-1789731000-1789736400@www.djtk.se
SUMMARY:Padel - Mexicanofredag by Gatorade. Nivå 4-6
DESCRIPTION:
URL:https://www.djtk.se/kalender/padel-mexicanofredag-by-gatorade-niva-4-6/2026-09-18/
LOCATION:Djursholms Tennisklubb\, Danderydsvägen 4\, Djursholm\, 18268
END:VEVENT
BEGIN:VEVENT
DTSTART;TZID=Europe/Stockholm:20260921T100000
DTEND;TZID=Europe/Stockholm:20260921T113000
DTSTAMP:20260426T050548
CREATED:20251028T094254Z
LAST-MODIFIED:20251028T094254Z
UID:10011074-1789984800-1789990200@www.djtk.se
SUMMARY:Padel - Seniorträning  55+\, 90 min
DESCRIPTION:
URL:https://www.djtk.se/kalender/padel-seniortraning-55-90-min/2026-09-21/
LOCATION:Djursholms Tennisklubb\, Danderydsvägen 4\, Djursholm\, 18268
END:VEVENT
BEGIN:VEVENT
DTSTART;TZID=Europe/Stockholm:20260921T113000
DTEND;TZID=Europe/Stockholm:20260921T130000
DTSTAMP:20260426T050548
CREATED:20251028T094449Z
LAST-MODIFIED:20251028T094449Z
UID:10011335-1789990200-1789995600@www.djtk.se
SUMMARY:Padel- Matchspel med tränare 90 min\, nivå 3-5
DESCRIPTION:
URL:https://www.djtk.se/kalender/padel-matchspel-med-tranare-90-min-niva-3-5/2026-09-21/
LOCATION:Djursholms Tennisklubb\, Danderydsvägen 4\, Djursholm\, 18268
END:VEVENT
BEGIN:VEVENT
DTSTART;TZID=Europe/Stockholm:20260922T110000
DTEND;TZID=Europe/Stockholm:20260922T123000
DTSTAMP:20260426T050548
CREATED:20251028T094614Z
LAST-MODIFIED:20251028T094614Z
UID:10011596-1790074800-1790080200@www.djtk.se
SUMMARY:Padel - Matchspel med tränare. 90 min\, Nivå 5-7
DESCRIPTION:
URL:https://www.djtk.se/kalender/padel-matchspel-med-tranare-90-min-niva-5-7/2026-09-22/
LOCATION:Djursholms Tennisklubb\, Danderydsvägen 4\, Djursholm\, 18268
END:VEVENT
BEGIN:VEVENT
DTSTART;TZID=Europe/Stockholm:20260922T120000
DTEND;TZID=Europe/Stockholm:20260922T130000
DTSTAMP:20260426T050548
CREATED:20251028T093442Z
LAST-MODIFIED:20251028T093442Z
UID:10010293-1790078400-1790082000@www.djtk.se
SUMMARY:Tennis - Matchspel Singel Nivå 3-4
DESCRIPTION:
URL:https://www.djtk.se/kalender/tennis-matchspel-singel-niva-3-4/2026-09-22/
LOCATION:Djursholms Tennisklubb\, Danderydsvägen 4\, Djursholm\, 18268
END:VEVENT
BEGIN:VEVENT
DTSTART;TZID=Europe/Stockholm:20260923T110000
DTEND;TZID=Europe/Stockholm:20260923T123000
DTSTAMP:20260426T050548
CREATED:20251028T094835Z
LAST-MODIFIED:20251028T094835Z
UID:10011856-1790161200-1790166600@www.djtk.se
SUMMARY:Padel - Stationsträning med 3 tränare. 90 min\, Nivå 4-6
DESCRIPTION:
URL:https://www.djtk.se/kalender/padel-stationstraning-med-3-tranare-90-min-niva-4-6/2026-09-23/
LOCATION:Djursholms Tennisklubb\, Danderydsvägen 4\, Djursholm\, 18268
END:VEVENT
BEGIN:VEVENT
DTSTART;TZID=Europe/Stockholm:20260923T120000
DTEND;TZID=Europe/Stockholm:20260923T140000
DTSTAMP:20260426T050548
CREATED:20251028T100228Z
LAST-MODIFIED:20251028T100228Z
UID:10013158-1790164800-1790172000@www.djtk.se
SUMMARY:Tennis - Team damdubbel omg. 2
DESCRIPTION:
URL:https://www.djtk.se/kalender/tennis-team-damdubbel-omg-2/2026-09-23/
LOCATION:Djursholms Tennisklubb\, Danderydsvägen 4\, Djursholm\, 18268
END:VEVENT
END:VCALENDAR