BEGIN:VCALENDAR
VERSION:2.0
PRODID:-//Djursholms Tennisklubb - ECPv6.15.14//NONSGML v1.0//EN
CALSCALE:GREGORIAN
METHOD:PUBLISH
X-ORIGINAL-URL:https://www.djtk.se
X-WR-CALDESC:Händelser för Djursholms Tennisklubb
REFRESH-INTERVAL;VALUE=DURATION:PT1H
X-Robots-Tag:noindex
X-PUBLISHED-TTL:PT1H
BEGIN:VTIMEZONE
TZID:Europe/Stockholm
BEGIN:DAYLIGHT
TZOFFSETFROM:+0100
TZOFFSETTO:+0200
TZNAME:CEST
DTSTART:20250330T010000
END:DAYLIGHT
BEGIN:STANDARD
TZOFFSETFROM:+0200
TZOFFSETTO:+0100
TZNAME:CET
DTSTART:20251026T010000
END:STANDARD
BEGIN:DAYLIGHT
TZOFFSETFROM:+0100
TZOFFSETTO:+0200
TZNAME:CEST
DTSTART:20260329T010000
END:DAYLIGHT
BEGIN:STANDARD
TZOFFSETFROM:+0200
TZOFFSETTO:+0100
TZNAME:CET
DTSTART:20261025T010000
END:STANDARD
BEGIN:DAYLIGHT
TZOFFSETFROM:+0100
TZOFFSETTO:+0200
TZNAME:CEST
DTSTART:20270328T010000
END:DAYLIGHT
BEGIN:STANDARD
TZOFFSETFROM:+0200
TZOFFSETTO:+0100
TZNAME:CET
DTSTART:20271031T010000
END:STANDARD
END:VTIMEZONE
BEGIN:VEVENT
DTSTART;TZID=Europe/Stockholm:20260629T100000
DTEND;TZID=Europe/Stockholm:20260629T113000
DTSTAMP:20260425T131131
CREATED:20251028T094254Z
LAST-MODIFIED:20251028T094254Z
UID:10011062-1782727200-1782732600@www.djtk.se
SUMMARY:Padel - Seniorträning  55+\, 90 min
DESCRIPTION:
URL:https://www.djtk.se/kalender/padel-seniortraning-55-90-min/2026-06-29/
LOCATION:Djursholms Tennisklubb\, Danderydsvägen 4\, Djursholm\, 18268
END:VEVENT
BEGIN:VEVENT
DTSTART;TZID=Europe/Stockholm:20260629T113000
DTEND;TZID=Europe/Stockholm:20260629T130000
DTSTAMP:20260425T131131
CREATED:20251028T094449Z
LAST-MODIFIED:20251028T094449Z
UID:10011323-1782732600-1782738000@www.djtk.se
SUMMARY:Padel- Matchspel med tränare 90 min\, nivå 3-5
DESCRIPTION:
URL:https://www.djtk.se/kalender/padel-matchspel-med-tranare-90-min-niva-3-5/2026-06-29/
LOCATION:Djursholms Tennisklubb\, Danderydsvägen 4\, Djursholm\, 18268
END:VEVENT
BEGIN:VEVENT
DTSTART;TZID=Europe/Stockholm:20260630T110000
DTEND;TZID=Europe/Stockholm:20260630T123000
DTSTAMP:20260425T131131
CREATED:20251028T094614Z
LAST-MODIFIED:20251028T094614Z
UID:10011584-1782817200-1782822600@www.djtk.se
SUMMARY:Padel - Matchspel med tränare. 90 min\, Nivå 5-7
DESCRIPTION:
URL:https://www.djtk.se/kalender/padel-matchspel-med-tranare-90-min-niva-5-7/2026-06-30/
LOCATION:Djursholms Tennisklubb\, Danderydsvägen 4\, Djursholm\, 18268
END:VEVENT
BEGIN:VEVENT
DTSTART;TZID=Europe/Stockholm:20260630T120000
DTEND;TZID=Europe/Stockholm:20260630T130000
DTSTAMP:20260425T131131
CREATED:20251028T093442Z
LAST-MODIFIED:20251028T093442Z
UID:10010281-1782820800-1782824400@www.djtk.se
SUMMARY:Tennis - Matchspel Singel Nivå 3-4
DESCRIPTION:
URL:https://www.djtk.se/kalender/tennis-matchspel-singel-niva-3-4/2026-06-30/
LOCATION:Djursholms Tennisklubb\, Danderydsvägen 4\, Djursholm\, 18268
END:VEVENT
BEGIN:VEVENT
DTSTART;TZID=Europe/Stockholm:20260701T110000
DTEND;TZID=Europe/Stockholm:20260701T123000
DTSTAMP:20260425T131131
CREATED:20251028T094835Z
LAST-MODIFIED:20251028T094835Z
UID:10011844-1782903600-1782909000@www.djtk.se
SUMMARY:Padel - Stationsträning med 3 tränare. 90 min\, Nivå 4-6
DESCRIPTION:
URL:https://www.djtk.se/kalender/padel-stationstraning-med-3-tranare-90-min-niva-4-6/2026-07-01/
LOCATION:Djursholms Tennisklubb\, Danderydsvägen 4\, Djursholm\, 18268
END:VEVENT
BEGIN:VEVENT
DTSTART;TZID=Europe/Stockholm:20260701T120000
DTEND;TZID=Europe/Stockholm:20260701T140000
DTSTAMP:20260425T131131
CREATED:20251028T100228Z
LAST-MODIFIED:20251028T100228Z
UID:10013146-1782907200-1782914400@www.djtk.se
SUMMARY:Tennis - Team damdubbel omg. 2
DESCRIPTION:
URL:https://www.djtk.se/kalender/tennis-team-damdubbel-omg-2/2026-07-01/
LOCATION:Djursholms Tennisklubb\, Danderydsvägen 4\, Djursholm\, 18268
END:VEVENT
BEGIN:VEVENT
DTSTART;TZID=Europe/Stockholm:20260702T110000
DTEND;TZID=Europe/Stockholm:20260702T120000
DTSTAMP:20260425T131131
CREATED:20251028T093700Z
LAST-MODIFIED:20251028T093700Z
UID:10010542-1782990000-1782993600@www.djtk.se
SUMMARY:Tennis - Teknikträning Nivå 3+
DESCRIPTION:
URL:https://www.djtk.se/kalender/tennis-tekniktraning-niva-3/2026-07-02/
LOCATION:Djursholms Tennisklubb\, Danderydsvägen 4\, Djursholm\, 18268
END:VEVENT
BEGIN:VEVENT
DTSTART;TZID=Europe/Stockholm:20260702T110000
DTEND;TZID=Europe/Stockholm:20260702T120000
DTSTAMP:20260425T131131
CREATED:20251028T095014Z
LAST-MODIFIED:20251028T095014Z
UID:10012104-1782990000-1782993600@www.djtk.se
SUMMARY:Padel - Drop in träning. 60 min\, Nivå 4-5
DESCRIPTION:
URL:https://www.djtk.se/kalender/padel-drop-in-traning-60-min-niva-4-5/2026-07-02/
LOCATION:Djursholms Tennisklubb\, Danderydsvägen 4\, Djursholm\, 18268
END:VEVENT
BEGIN:VEVENT
DTSTART;TZID=Europe/Stockholm:20260702T120000
DTEND;TZID=Europe/Stockholm:20260702T130000
DTSTAMP:20260425T131131
CREATED:20251028T093828Z
LAST-MODIFIED:20251028T093828Z
UID:10010802-1782993600-1782997200@www.djtk.se
SUMMARY:Tennis - Matchspel singel Avancerad
DESCRIPTION:
URL:https://www.djtk.se/kalender/tennis-matchspel-singel-avancerad/2026-07-02/
LOCATION:Djursholms Tennisklubb\, Danderydsvägen 4\, Djursholm\, 18268
END:VEVENT
BEGIN:VEVENT
DTSTART;TZID=Europe/Stockholm:20260703T080000
DTEND;TZID=Europe/Stockholm:20260703T093000
DTSTAMP:20260425T131131
CREATED:20251028T095146Z
LAST-MODIFIED:20251028T095146Z
UID:10012364-1783065600-1783071000@www.djtk.se
SUMMARY:Padel - Vinnarbana med tränare. 90 min\, Nivå 6-7 Herrar
DESCRIPTION:
URL:https://www.djtk.se/kalender/padel-vinnarbana-med-tranare-90-min-niva-6-7-herrar/2026-07-03/
LOCATION:Djursholms Tennisklubb\, Danderydsvägen 4\, Djursholm\, 18268
END:VEVENT
BEGIN:VEVENT
DTSTART;TZID=Europe/Stockholm:20260703T103000
DTEND;TZID=Europe/Stockholm:20260703T113000
DTSTAMP:20260425T131131
CREATED:20251028T095320Z
LAST-MODIFIED:20251028T095320Z
UID:10012624-1783074600-1783078200@www.djtk.se
SUMMARY:Padel - Seniorträning 55+\, 60 min.
DESCRIPTION:
URL:https://www.djtk.se/kalender/padel-seniortraning-55-60-min/2026-07-03/
LOCATION:Djursholms Tennisklubb\, Danderydsvägen 4\, Djursholm\, 18268
END:VEVENT
BEGIN:VEVENT
DTSTART;TZID=Europe/Stockholm:20260703T113000
DTEND;TZID=Europe/Stockholm:20260703T130000
DTSTAMP:20260425T131131
CREATED:20251028T095652Z
LAST-MODIFIED:20251028T095652Z
UID:10012884-1783078200-1783083600@www.djtk.se
SUMMARY:Padel - Mexicanofredag by Gatorade. Nivå 4-6
DESCRIPTION:
URL:https://www.djtk.se/kalender/padel-mexicanofredag-by-gatorade-niva-4-6/2026-07-03/
LOCATION:Djursholms Tennisklubb\, Danderydsvägen 4\, Djursholm\, 18268
END:VEVENT
BEGIN:VEVENT
DTSTART;TZID=Europe/Stockholm:20260706T100000
DTEND;TZID=Europe/Stockholm:20260706T113000
DTSTAMP:20260425T131131
CREATED:20251028T094254Z
LAST-MODIFIED:20251028T094254Z
UID:10011063-1783332000-1783337400@www.djtk.se
SUMMARY:Padel - Seniorträning  55+\, 90 min
DESCRIPTION:
URL:https://www.djtk.se/kalender/padel-seniortraning-55-90-min/2026-07-06/
LOCATION:Djursholms Tennisklubb\, Danderydsvägen 4\, Djursholm\, 18268
END:VEVENT
BEGIN:VEVENT
DTSTART;TZID=Europe/Stockholm:20260706T113000
DTEND;TZID=Europe/Stockholm:20260706T130000
DTSTAMP:20260425T131131
CREATED:20251028T094449Z
LAST-MODIFIED:20251028T094449Z
UID:10011324-1783337400-1783342800@www.djtk.se
SUMMARY:Padel- Matchspel med tränare 90 min\, nivå 3-5
DESCRIPTION:
URL:https://www.djtk.se/kalender/padel-matchspel-med-tranare-90-min-niva-3-5/2026-07-06/
LOCATION:Djursholms Tennisklubb\, Danderydsvägen 4\, Djursholm\, 18268
END:VEVENT
BEGIN:VEVENT
DTSTART;TZID=Europe/Stockholm:20260707T110000
DTEND;TZID=Europe/Stockholm:20260707T123000
DTSTAMP:20260425T131131
CREATED:20251028T094614Z
LAST-MODIFIED:20251028T094614Z
UID:10011585-1783422000-1783427400@www.djtk.se
SUMMARY:Padel - Matchspel med tränare. 90 min\, Nivå 5-7
DESCRIPTION:
URL:https://www.djtk.se/kalender/padel-matchspel-med-tranare-90-min-niva-5-7/2026-07-07/
LOCATION:Djursholms Tennisklubb\, Danderydsvägen 4\, Djursholm\, 18268
END:VEVENT
BEGIN:VEVENT
DTSTART;TZID=Europe/Stockholm:20260707T120000
DTEND;TZID=Europe/Stockholm:20260707T130000
DTSTAMP:20260425T131131
CREATED:20251028T093442Z
LAST-MODIFIED:20251028T093442Z
UID:10010282-1783425600-1783429200@www.djtk.se
SUMMARY:Tennis - Matchspel Singel Nivå 3-4
DESCRIPTION:
URL:https://www.djtk.se/kalender/tennis-matchspel-singel-niva-3-4/2026-07-07/
LOCATION:Djursholms Tennisklubb\, Danderydsvägen 4\, Djursholm\, 18268
END:VEVENT
BEGIN:VEVENT
DTSTART;TZID=Europe/Stockholm:20260708T110000
DTEND;TZID=Europe/Stockholm:20260708T123000
DTSTAMP:20260425T131131
CREATED:20251028T094835Z
LAST-MODIFIED:20251028T094835Z
UID:10011845-1783508400-1783513800@www.djtk.se
SUMMARY:Padel - Stationsträning med 3 tränare. 90 min\, Nivå 4-6
DESCRIPTION:
URL:https://www.djtk.se/kalender/padel-stationstraning-med-3-tranare-90-min-niva-4-6/2026-07-08/
LOCATION:Djursholms Tennisklubb\, Danderydsvägen 4\, Djursholm\, 18268
END:VEVENT
BEGIN:VEVENT
DTSTART;TZID=Europe/Stockholm:20260708T120000
DTEND;TZID=Europe/Stockholm:20260708T140000
DTSTAMP:20260425T131131
CREATED:20251028T100228Z
LAST-MODIFIED:20251028T100228Z
UID:10013147-1783512000-1783519200@www.djtk.se
SUMMARY:Tennis - Team damdubbel omg. 2
DESCRIPTION:
URL:https://www.djtk.se/kalender/tennis-team-damdubbel-omg-2/2026-07-08/
LOCATION:Djursholms Tennisklubb\, Danderydsvägen 4\, Djursholm\, 18268
END:VEVENT
BEGIN:VEVENT
DTSTART;TZID=Europe/Stockholm:20260709T110000
DTEND;TZID=Europe/Stockholm:20260709T120000
DTSTAMP:20260425T131131
CREATED:20251028T093700Z
LAST-MODIFIED:20251028T093700Z
UID:10010543-1783594800-1783598400@www.djtk.se
SUMMARY:Tennis - Teknikträning Nivå 3+
DESCRIPTION:
URL:https://www.djtk.se/kalender/tennis-tekniktraning-niva-3/2026-07-09/
LOCATION:Djursholms Tennisklubb\, Danderydsvägen 4\, Djursholm\, 18268
END:VEVENT
BEGIN:VEVENT
DTSTART;TZID=Europe/Stockholm:20260709T110000
DTEND;TZID=Europe/Stockholm:20260709T120000
DTSTAMP:20260425T131131
CREATED:20251028T095014Z
LAST-MODIFIED:20251028T095014Z
UID:10012105-1783594800-1783598400@www.djtk.se
SUMMARY:Padel - Drop in träning. 60 min\, Nivå 4-5
DESCRIPTION:
URL:https://www.djtk.se/kalender/padel-drop-in-traning-60-min-niva-4-5/2026-07-09/
LOCATION:Djursholms Tennisklubb\, Danderydsvägen 4\, Djursholm\, 18268
END:VEVENT
BEGIN:VEVENT
DTSTART;TZID=Europe/Stockholm:20260709T120000
DTEND;TZID=Europe/Stockholm:20260709T130000
DTSTAMP:20260425T131131
CREATED:20251028T093828Z
LAST-MODIFIED:20251028T093828Z
UID:10010803-1783598400-1783602000@www.djtk.se
SUMMARY:Tennis - Matchspel singel Avancerad
DESCRIPTION:
URL:https://www.djtk.se/kalender/tennis-matchspel-singel-avancerad/2026-07-09/
LOCATION:Djursholms Tennisklubb\, Danderydsvägen 4\, Djursholm\, 18268
END:VEVENT
BEGIN:VEVENT
DTSTART;TZID=Europe/Stockholm:20260710T080000
DTEND;TZID=Europe/Stockholm:20260710T093000
DTSTAMP:20260425T131131
CREATED:20251028T095146Z
LAST-MODIFIED:20251028T095146Z
UID:10012365-1783670400-1783675800@www.djtk.se
SUMMARY:Padel - Vinnarbana med tränare. 90 min\, Nivå 6-7 Herrar
DESCRIPTION:
URL:https://www.djtk.se/kalender/padel-vinnarbana-med-tranare-90-min-niva-6-7-herrar/2026-07-10/
LOCATION:Djursholms Tennisklubb\, Danderydsvägen 4\, Djursholm\, 18268
END:VEVENT
BEGIN:VEVENT
DTSTART;TZID=Europe/Stockholm:20260710T103000
DTEND;TZID=Europe/Stockholm:20260710T113000
DTSTAMP:20260425T131131
CREATED:20251028T095320Z
LAST-MODIFIED:20251028T095320Z
UID:10012625-1783679400-1783683000@www.djtk.se
SUMMARY:Padel - Seniorträning 55+\, 60 min.
DESCRIPTION:
URL:https://www.djtk.se/kalender/padel-seniortraning-55-60-min/2026-07-10/
LOCATION:Djursholms Tennisklubb\, Danderydsvägen 4\, Djursholm\, 18268
END:VEVENT
BEGIN:VEVENT
DTSTART;TZID=Europe/Stockholm:20260710T113000
DTEND;TZID=Europe/Stockholm:20260710T130000
DTSTAMP:20260425T131131
CREATED:20251028T095652Z
LAST-MODIFIED:20251028T095652Z
UID:10012885-1783683000-1783688400@www.djtk.se
SUMMARY:Padel - Mexicanofredag by Gatorade. Nivå 4-6
DESCRIPTION:
URL:https://www.djtk.se/kalender/padel-mexicanofredag-by-gatorade-niva-4-6/2026-07-10/
LOCATION:Djursholms Tennisklubb\, Danderydsvägen 4\, Djursholm\, 18268
END:VEVENT
BEGIN:VEVENT
DTSTART;TZID=Europe/Stockholm:20260713T100000
DTEND;TZID=Europe/Stockholm:20260713T113000
DTSTAMP:20260425T131131
CREATED:20251028T094254Z
LAST-MODIFIED:20251028T094254Z
UID:10011064-1783936800-1783942200@www.djtk.se
SUMMARY:Padel - Seniorträning  55+\, 90 min
DESCRIPTION:
URL:https://www.djtk.se/kalender/padel-seniortraning-55-90-min/2026-07-13/
LOCATION:Djursholms Tennisklubb\, Danderydsvägen 4\, Djursholm\, 18268
END:VEVENT
BEGIN:VEVENT
DTSTART;TZID=Europe/Stockholm:20260713T113000
DTEND;TZID=Europe/Stockholm:20260713T130000
DTSTAMP:20260425T131131
CREATED:20251028T094449Z
LAST-MODIFIED:20251028T094449Z
UID:10011325-1783942200-1783947600@www.djtk.se
SUMMARY:Padel- Matchspel med tränare 90 min\, nivå 3-5
DESCRIPTION:
URL:https://www.djtk.se/kalender/padel-matchspel-med-tranare-90-min-niva-3-5/2026-07-13/
LOCATION:Djursholms Tennisklubb\, Danderydsvägen 4\, Djursholm\, 18268
END:VEVENT
BEGIN:VEVENT
DTSTART;TZID=Europe/Stockholm:20260714T110000
DTEND;TZID=Europe/Stockholm:20260714T123000
DTSTAMP:20260425T131131
CREATED:20251028T094614Z
LAST-MODIFIED:20251028T094614Z
UID:10011586-1784026800-1784032200@www.djtk.se
SUMMARY:Padel - Matchspel med tränare. 90 min\, Nivå 5-7
DESCRIPTION:
URL:https://www.djtk.se/kalender/padel-matchspel-med-tranare-90-min-niva-5-7/2026-07-14/
LOCATION:Djursholms Tennisklubb\, Danderydsvägen 4\, Djursholm\, 18268
END:VEVENT
BEGIN:VEVENT
DTSTART;TZID=Europe/Stockholm:20260714T120000
DTEND;TZID=Europe/Stockholm:20260714T130000
DTSTAMP:20260425T131131
CREATED:20251028T093442Z
LAST-MODIFIED:20251028T093442Z
UID:10010283-1784030400-1784034000@www.djtk.se
SUMMARY:Tennis - Matchspel Singel Nivå 3-4
DESCRIPTION:
URL:https://www.djtk.se/kalender/tennis-matchspel-singel-niva-3-4/2026-07-14/
LOCATION:Djursholms Tennisklubb\, Danderydsvägen 4\, Djursholm\, 18268
END:VEVENT
BEGIN:VEVENT
DTSTART;TZID=Europe/Stockholm:20260715T110000
DTEND;TZID=Europe/Stockholm:20260715T123000
DTSTAMP:20260425T131131
CREATED:20251028T094835Z
LAST-MODIFIED:20251028T094835Z
UID:10011846-1784113200-1784118600@www.djtk.se
SUMMARY:Padel - Stationsträning med 3 tränare. 90 min\, Nivå 4-6
DESCRIPTION:
URL:https://www.djtk.se/kalender/padel-stationstraning-med-3-tranare-90-min-niva-4-6/2026-07-15/
LOCATION:Djursholms Tennisklubb\, Danderydsvägen 4\, Djursholm\, 18268
END:VEVENT
BEGIN:VEVENT
DTSTART;TZID=Europe/Stockholm:20260715T120000
DTEND;TZID=Europe/Stockholm:20260715T140000
DTSTAMP:20260425T131131
CREATED:20251028T100228Z
LAST-MODIFIED:20251028T100228Z
UID:10013148-1784116800-1784124000@www.djtk.se
SUMMARY:Tennis - Team damdubbel omg. 2
DESCRIPTION:
URL:https://www.djtk.se/kalender/tennis-team-damdubbel-omg-2/2026-07-15/
LOCATION:Djursholms Tennisklubb\, Danderydsvägen 4\, Djursholm\, 18268
END:VEVENT
END:VCALENDAR