BEGIN:VCALENDAR
VERSION:2.0
PRODID:-//Djursholms Tennisklubb - ECPv6.15.14//NONSGML v1.0//EN
CALSCALE:GREGORIAN
METHOD:PUBLISH
X-WR-CALNAME:Djursholms Tennisklubb
X-ORIGINAL-URL:https://www.djtk.se
X-WR-CALDESC:Händelser för Djursholms Tennisklubb
REFRESH-INTERVAL;VALUE=DURATION:PT1H
X-Robots-Tag:noindex
X-PUBLISHED-TTL:PT1H
BEGIN:VTIMEZONE
TZID:Europe/Stockholm
BEGIN:DAYLIGHT
TZOFFSETFROM:+0100
TZOFFSETTO:+0200
TZNAME:CEST
DTSTART:20250330T010000
END:DAYLIGHT
BEGIN:STANDARD
TZOFFSETFROM:+0200
TZOFFSETTO:+0100
TZNAME:CET
DTSTART:20251026T010000
END:STANDARD
BEGIN:DAYLIGHT
TZOFFSETFROM:+0100
TZOFFSETTO:+0200
TZNAME:CEST
DTSTART:20260329T010000
END:DAYLIGHT
BEGIN:STANDARD
TZOFFSETFROM:+0200
TZOFFSETTO:+0100
TZNAME:CET
DTSTART:20261025T010000
END:STANDARD
BEGIN:DAYLIGHT
TZOFFSETFROM:+0100
TZOFFSETTO:+0200
TZNAME:CEST
DTSTART:20270328T010000
END:DAYLIGHT
BEGIN:STANDARD
TZOFFSETFROM:+0200
TZOFFSETTO:+0100
TZNAME:CET
DTSTART:20271031T010000
END:STANDARD
END:VTIMEZONE
BEGIN:VEVENT
DTSTART;TZID=Europe/Stockholm:20260601T100000
DTEND;TZID=Europe/Stockholm:20260601T113000
DTSTAMP:20260424T221454
CREATED:20251028T094254Z
LAST-MODIFIED:20251028T094254Z
UID:10011058-1780308000-1780313400@www.djtk.se
SUMMARY:Padel - Seniorträning  55+\, 90 min
DESCRIPTION:
URL:https://www.djtk.se/kalender/padel-seniortraning-55-90-min/2026-06-01/
LOCATION:Djursholms Tennisklubb\, Danderydsvägen 4\, Djursholm\, 18268
END:VEVENT
BEGIN:VEVENT
DTSTART;TZID=Europe/Stockholm:20260601T113000
DTEND;TZID=Europe/Stockholm:20260601T130000
DTSTAMP:20260424T221454
CREATED:20251028T094449Z
LAST-MODIFIED:20251028T094449Z
UID:10011319-1780313400-1780318800@www.djtk.se
SUMMARY:Padel- Matchspel med tränare 90 min\, nivå 3-5
DESCRIPTION:
URL:https://www.djtk.se/kalender/padel-matchspel-med-tranare-90-min-niva-3-5/2026-06-01/
LOCATION:Djursholms Tennisklubb\, Danderydsvägen 4\, Djursholm\, 18268
END:VEVENT
BEGIN:VEVENT
DTSTART;TZID=Europe/Stockholm:20260602T110000
DTEND;TZID=Europe/Stockholm:20260602T123000
DTSTAMP:20260424T221454
CREATED:20251028T094614Z
LAST-MODIFIED:20251028T094614Z
UID:10011580-1780398000-1780403400@www.djtk.se
SUMMARY:Padel - Matchspel med tränare. 90 min\, Nivå 5-7
DESCRIPTION:
URL:https://www.djtk.se/kalender/padel-matchspel-med-tranare-90-min-niva-5-7/2026-06-02/
LOCATION:Djursholms Tennisklubb\, Danderydsvägen 4\, Djursholm\, 18268
END:VEVENT
BEGIN:VEVENT
DTSTART;TZID=Europe/Stockholm:20260602T120000
DTEND;TZID=Europe/Stockholm:20260602T130000
DTSTAMP:20260424T221454
CREATED:20251028T093442Z
LAST-MODIFIED:20251028T093442Z
UID:10010277-1780401600-1780405200@www.djtk.se
SUMMARY:Tennis - Matchspel Singel Nivå 3-4
DESCRIPTION:
URL:https://www.djtk.se/kalender/tennis-matchspel-singel-niva-3-4/2026-06-02/
LOCATION:Djursholms Tennisklubb\, Danderydsvägen 4\, Djursholm\, 18268
END:VEVENT
BEGIN:VEVENT
DTSTART;TZID=Europe/Stockholm:20260603T110000
DTEND;TZID=Europe/Stockholm:20260603T123000
DTSTAMP:20260424T221454
CREATED:20251028T094835Z
LAST-MODIFIED:20251028T094835Z
UID:10011840-1780484400-1780489800@www.djtk.se
SUMMARY:Padel - Stationsträning med 3 tränare. 90 min\, Nivå 4-6
DESCRIPTION:
URL:https://www.djtk.se/kalender/padel-stationstraning-med-3-tranare-90-min-niva-4-6/2026-06-03/
LOCATION:Djursholms Tennisklubb\, Danderydsvägen 4\, Djursholm\, 18268
END:VEVENT
BEGIN:VEVENT
DTSTART;TZID=Europe/Stockholm:20260603T120000
DTEND;TZID=Europe/Stockholm:20260603T140000
DTSTAMP:20260424T221454
CREATED:20251028T100228Z
LAST-MODIFIED:20251028T100228Z
UID:10013142-1780488000-1780495200@www.djtk.se
SUMMARY:Tennis - Team damdubbel omg. 2
DESCRIPTION:
URL:https://www.djtk.se/kalender/tennis-team-damdubbel-omg-2/2026-06-03/
LOCATION:Djursholms Tennisklubb\, Danderydsvägen 4\, Djursholm\, 18268
END:VEVENT
BEGIN:VEVENT
DTSTART;TZID=Europe/Stockholm:20260604T110000
DTEND;TZID=Europe/Stockholm:20260604T120000
DTSTAMP:20260424T221454
CREATED:20251028T093700Z
LAST-MODIFIED:20251028T093700Z
UID:10010538-1780570800-1780574400@www.djtk.se
SUMMARY:Tennis - Teknikträning Nivå 3+
DESCRIPTION:
URL:https://www.djtk.se/kalender/tennis-tekniktraning-niva-3/2026-06-04/
LOCATION:Djursholms Tennisklubb\, Danderydsvägen 4\, Djursholm\, 18268
END:VEVENT
BEGIN:VEVENT
DTSTART;TZID=Europe/Stockholm:20260604T110000
DTEND;TZID=Europe/Stockholm:20260604T120000
DTSTAMP:20260424T221454
CREATED:20251028T095014Z
LAST-MODIFIED:20251028T095014Z
UID:10012100-1780570800-1780574400@www.djtk.se
SUMMARY:Padel - Drop in träning. 60 min\, Nivå 4-5
DESCRIPTION:
URL:https://www.djtk.se/kalender/padel-drop-in-traning-60-min-niva-4-5/2026-06-04/
LOCATION:Djursholms Tennisklubb\, Danderydsvägen 4\, Djursholm\, 18268
END:VEVENT
BEGIN:VEVENT
DTSTART;TZID=Europe/Stockholm:20260604T120000
DTEND;TZID=Europe/Stockholm:20260604T130000
DTSTAMP:20260424T221454
CREATED:20251028T093828Z
LAST-MODIFIED:20251028T093828Z
UID:10010798-1780574400-1780578000@www.djtk.se
SUMMARY:Tennis - Matchspel singel Avancerad
DESCRIPTION:
URL:https://www.djtk.se/kalender/tennis-matchspel-singel-avancerad/2026-06-04/
LOCATION:Djursholms Tennisklubb\, Danderydsvägen 4\, Djursholm\, 18268
END:VEVENT
BEGIN:VEVENT
DTSTART;TZID=Europe/Stockholm:20260605T080000
DTEND;TZID=Europe/Stockholm:20260605T093000
DTSTAMP:20260424T221454
CREATED:20251028T095146Z
LAST-MODIFIED:20251028T095146Z
UID:10012360-1780646400-1780651800@www.djtk.se
SUMMARY:Padel - Vinnarbana med tränare. 90 min\, Nivå 6-7 Herrar
DESCRIPTION:
URL:https://www.djtk.se/kalender/padel-vinnarbana-med-tranare-90-min-niva-6-7-herrar/2026-06-05/
LOCATION:Djursholms Tennisklubb\, Danderydsvägen 4\, Djursholm\, 18268
END:VEVENT
BEGIN:VEVENT
DTSTART;TZID=Europe/Stockholm:20260605T103000
DTEND;TZID=Europe/Stockholm:20260605T113000
DTSTAMP:20260424T221454
CREATED:20251028T095320Z
LAST-MODIFIED:20251028T095320Z
UID:10012620-1780655400-1780659000@www.djtk.se
SUMMARY:Padel - Seniorträning 55+\, 60 min.
DESCRIPTION:
URL:https://www.djtk.se/kalender/padel-seniortraning-55-60-min/2026-06-05/
LOCATION:Djursholms Tennisklubb\, Danderydsvägen 4\, Djursholm\, 18268
END:VEVENT
BEGIN:VEVENT
DTSTART;TZID=Europe/Stockholm:20260605T113000
DTEND;TZID=Europe/Stockholm:20260605T130000
DTSTAMP:20260424T221454
CREATED:20251028T095652Z
LAST-MODIFIED:20251028T095652Z
UID:10012880-1780659000-1780664400@www.djtk.se
SUMMARY:Padel - Mexicanofredag by Gatorade. Nivå 4-6
DESCRIPTION:
URL:https://www.djtk.se/kalender/padel-mexicanofredag-by-gatorade-niva-4-6/2026-06-05/
LOCATION:Djursholms Tennisklubb\, Danderydsvägen 4\, Djursholm\, 18268
END:VEVENT
BEGIN:VEVENT
DTSTART;TZID=Europe/Stockholm:20260608T100000
DTEND;TZID=Europe/Stockholm:20260608T113000
DTSTAMP:20260424T221454
CREATED:20251028T094254Z
LAST-MODIFIED:20251028T094254Z
UID:10011059-1780912800-1780918200@www.djtk.se
SUMMARY:Padel - Seniorträning  55+\, 90 min
DESCRIPTION:
URL:https://www.djtk.se/kalender/padel-seniortraning-55-90-min/2026-06-08/
LOCATION:Djursholms Tennisklubb\, Danderydsvägen 4\, Djursholm\, 18268
END:VEVENT
BEGIN:VEVENT
DTSTART;TZID=Europe/Stockholm:20260608T113000
DTEND;TZID=Europe/Stockholm:20260608T130000
DTSTAMP:20260424T221454
CREATED:20251028T094449Z
LAST-MODIFIED:20251028T094449Z
UID:10011320-1780918200-1780923600@www.djtk.se
SUMMARY:Padel- Matchspel med tränare 90 min\, nivå 3-5
DESCRIPTION:
URL:https://www.djtk.se/kalender/padel-matchspel-med-tranare-90-min-niva-3-5/2026-06-08/
LOCATION:Djursholms Tennisklubb\, Danderydsvägen 4\, Djursholm\, 18268
END:VEVENT
BEGIN:VEVENT
DTSTART;TZID=Europe/Stockholm:20260609T110000
DTEND;TZID=Europe/Stockholm:20260609T123000
DTSTAMP:20260424T221454
CREATED:20251028T094614Z
LAST-MODIFIED:20251028T094614Z
UID:10011581-1781002800-1781008200@www.djtk.se
SUMMARY:Padel - Matchspel med tränare. 90 min\, Nivå 5-7
DESCRIPTION:
URL:https://www.djtk.se/kalender/padel-matchspel-med-tranare-90-min-niva-5-7/2026-06-09/
LOCATION:Djursholms Tennisklubb\, Danderydsvägen 4\, Djursholm\, 18268
END:VEVENT
BEGIN:VEVENT
DTSTART;TZID=Europe/Stockholm:20260609T120000
DTEND;TZID=Europe/Stockholm:20260609T130000
DTSTAMP:20260424T221454
CREATED:20251028T093442Z
LAST-MODIFIED:20251028T093442Z
UID:10010278-1781006400-1781010000@www.djtk.se
SUMMARY:Tennis - Matchspel Singel Nivå 3-4
DESCRIPTION:
URL:https://www.djtk.se/kalender/tennis-matchspel-singel-niva-3-4/2026-06-09/
LOCATION:Djursholms Tennisklubb\, Danderydsvägen 4\, Djursholm\, 18268
END:VEVENT
BEGIN:VEVENT
DTSTART;TZID=Europe/Stockholm:20260610T110000
DTEND;TZID=Europe/Stockholm:20260610T123000
DTSTAMP:20260424T221454
CREATED:20251028T094835Z
LAST-MODIFIED:20251028T094835Z
UID:10011841-1781089200-1781094600@www.djtk.se
SUMMARY:Padel - Stationsträning med 3 tränare. 90 min\, Nivå 4-6
DESCRIPTION:
URL:https://www.djtk.se/kalender/padel-stationstraning-med-3-tranare-90-min-niva-4-6/2026-06-10/
LOCATION:Djursholms Tennisklubb\, Danderydsvägen 4\, Djursholm\, 18268
END:VEVENT
BEGIN:VEVENT
DTSTART;TZID=Europe/Stockholm:20260610T120000
DTEND;TZID=Europe/Stockholm:20260610T140000
DTSTAMP:20260424T221454
CREATED:20251028T100228Z
LAST-MODIFIED:20251028T100228Z
UID:10013143-1781092800-1781100000@www.djtk.se
SUMMARY:Tennis - Team damdubbel omg. 2
DESCRIPTION:
URL:https://www.djtk.se/kalender/tennis-team-damdubbel-omg-2/2026-06-10/
LOCATION:Djursholms Tennisklubb\, Danderydsvägen 4\, Djursholm\, 18268
END:VEVENT
BEGIN:VEVENT
DTSTART;TZID=Europe/Stockholm:20260611T110000
DTEND;TZID=Europe/Stockholm:20260611T120000
DTSTAMP:20260424T221454
CREATED:20251028T093700Z
LAST-MODIFIED:20251028T093700Z
UID:10010539-1781175600-1781179200@www.djtk.se
SUMMARY:Tennis - Teknikträning Nivå 3+
DESCRIPTION:
URL:https://www.djtk.se/kalender/tennis-tekniktraning-niva-3/2026-06-11/
LOCATION:Djursholms Tennisklubb\, Danderydsvägen 4\, Djursholm\, 18268
END:VEVENT
BEGIN:VEVENT
DTSTART;TZID=Europe/Stockholm:20260611T110000
DTEND;TZID=Europe/Stockholm:20260611T120000
DTSTAMP:20260424T221454
CREATED:20251028T095014Z
LAST-MODIFIED:20251028T095014Z
UID:10012101-1781175600-1781179200@www.djtk.se
SUMMARY:Padel - Drop in träning. 60 min\, Nivå 4-5
DESCRIPTION:
URL:https://www.djtk.se/kalender/padel-drop-in-traning-60-min-niva-4-5/2026-06-11/
LOCATION:Djursholms Tennisklubb\, Danderydsvägen 4\, Djursholm\, 18268
END:VEVENT
BEGIN:VEVENT
DTSTART;TZID=Europe/Stockholm:20260611T120000
DTEND;TZID=Europe/Stockholm:20260611T130000
DTSTAMP:20260424T221454
CREATED:20251028T093828Z
LAST-MODIFIED:20251028T093828Z
UID:10010799-1781179200-1781182800@www.djtk.se
SUMMARY:Tennis - Matchspel singel Avancerad
DESCRIPTION:
URL:https://www.djtk.se/kalender/tennis-matchspel-singel-avancerad/2026-06-11/
LOCATION:Djursholms Tennisklubb\, Danderydsvägen 4\, Djursholm\, 18268
END:VEVENT
BEGIN:VEVENT
DTSTART;TZID=Europe/Stockholm:20260612T080000
DTEND;TZID=Europe/Stockholm:20260612T093000
DTSTAMP:20260424T221454
CREATED:20251028T095146Z
LAST-MODIFIED:20251028T095146Z
UID:10012361-1781251200-1781256600@www.djtk.se
SUMMARY:Padel - Vinnarbana med tränare. 90 min\, Nivå 6-7 Herrar
DESCRIPTION:
URL:https://www.djtk.se/kalender/padel-vinnarbana-med-tranare-90-min-niva-6-7-herrar/2026-06-12/
LOCATION:Djursholms Tennisklubb\, Danderydsvägen 4\, Djursholm\, 18268
END:VEVENT
BEGIN:VEVENT
DTSTART;TZID=Europe/Stockholm:20260612T103000
DTEND;TZID=Europe/Stockholm:20260612T113000
DTSTAMP:20260424T221454
CREATED:20251028T095320Z
LAST-MODIFIED:20251028T095320Z
UID:10012621-1781260200-1781263800@www.djtk.se
SUMMARY:Padel - Seniorträning 55+\, 60 min.
DESCRIPTION:
URL:https://www.djtk.se/kalender/padel-seniortraning-55-60-min/2026-06-12/
LOCATION:Djursholms Tennisklubb\, Danderydsvägen 4\, Djursholm\, 18268
END:VEVENT
BEGIN:VEVENT
DTSTART;TZID=Europe/Stockholm:20260612T113000
DTEND;TZID=Europe/Stockholm:20260612T130000
DTSTAMP:20260424T221454
CREATED:20251028T095652Z
LAST-MODIFIED:20251028T095652Z
UID:10012881-1781263800-1781269200@www.djtk.se
SUMMARY:Padel - Mexicanofredag by Gatorade. Nivå 4-6
DESCRIPTION:
URL:https://www.djtk.se/kalender/padel-mexicanofredag-by-gatorade-niva-4-6/2026-06-12/
LOCATION:Djursholms Tennisklubb\, Danderydsvägen 4\, Djursholm\, 18268
END:VEVENT
BEGIN:VEVENT
DTSTART;TZID=Europe/Stockholm:20260615T100000
DTEND;TZID=Europe/Stockholm:20260615T113000
DTSTAMP:20260424T221454
CREATED:20251028T094254Z
LAST-MODIFIED:20251028T094254Z
UID:10011060-1781517600-1781523000@www.djtk.se
SUMMARY:Padel - Seniorträning  55+\, 90 min
DESCRIPTION:
URL:https://www.djtk.se/kalender/padel-seniortraning-55-90-min/2026-06-15/
LOCATION:Djursholms Tennisklubb\, Danderydsvägen 4\, Djursholm\, 18268
END:VEVENT
BEGIN:VEVENT
DTSTART;TZID=Europe/Stockholm:20260615T113000
DTEND;TZID=Europe/Stockholm:20260615T130000
DTSTAMP:20260424T221454
CREATED:20251028T094449Z
LAST-MODIFIED:20251028T094449Z
UID:10011321-1781523000-1781528400@www.djtk.se
SUMMARY:Padel- Matchspel med tränare 90 min\, nivå 3-5
DESCRIPTION:
URL:https://www.djtk.se/kalender/padel-matchspel-med-tranare-90-min-niva-3-5/2026-06-15/
LOCATION:Djursholms Tennisklubb\, Danderydsvägen 4\, Djursholm\, 18268
END:VEVENT
BEGIN:VEVENT
DTSTART;TZID=Europe/Stockholm:20260616T110000
DTEND;TZID=Europe/Stockholm:20260616T123000
DTSTAMP:20260424T221454
CREATED:20251028T094614Z
LAST-MODIFIED:20251028T094614Z
UID:10011582-1781607600-1781613000@www.djtk.se
SUMMARY:Padel - Matchspel med tränare. 90 min\, Nivå 5-7
DESCRIPTION:
URL:https://www.djtk.se/kalender/padel-matchspel-med-tranare-90-min-niva-5-7/2026-06-16/
LOCATION:Djursholms Tennisklubb\, Danderydsvägen 4\, Djursholm\, 18268
END:VEVENT
BEGIN:VEVENT
DTSTART;TZID=Europe/Stockholm:20260616T120000
DTEND;TZID=Europe/Stockholm:20260616T130000
DTSTAMP:20260424T221454
CREATED:20251028T093442Z
LAST-MODIFIED:20251028T093442Z
UID:10010279-1781611200-1781614800@www.djtk.se
SUMMARY:Tennis - Matchspel Singel Nivå 3-4
DESCRIPTION:
URL:https://www.djtk.se/kalender/tennis-matchspel-singel-niva-3-4/2026-06-16/
LOCATION:Djursholms Tennisklubb\, Danderydsvägen 4\, Djursholm\, 18268
END:VEVENT
BEGIN:VEVENT
DTSTART;TZID=Europe/Stockholm:20260617T110000
DTEND;TZID=Europe/Stockholm:20260617T123000
DTSTAMP:20260424T221454
CREATED:20251028T094835Z
LAST-MODIFIED:20251028T094835Z
UID:10011842-1781694000-1781699400@www.djtk.se
SUMMARY:Padel - Stationsträning med 3 tränare. 90 min\, Nivå 4-6
DESCRIPTION:
URL:https://www.djtk.se/kalender/padel-stationstraning-med-3-tranare-90-min-niva-4-6/2026-06-17/
LOCATION:Djursholms Tennisklubb\, Danderydsvägen 4\, Djursholm\, 18268
END:VEVENT
BEGIN:VEVENT
DTSTART;TZID=Europe/Stockholm:20260617T120000
DTEND;TZID=Europe/Stockholm:20260617T140000
DTSTAMP:20260424T221454
CREATED:20251028T100228Z
LAST-MODIFIED:20251028T100228Z
UID:10013144-1781697600-1781704800@www.djtk.se
SUMMARY:Tennis - Team damdubbel omg. 2
DESCRIPTION:
URL:https://www.djtk.se/kalender/tennis-team-damdubbel-omg-2/2026-06-17/
LOCATION:Djursholms Tennisklubb\, Danderydsvägen 4\, Djursholm\, 18268
END:VEVENT
END:VCALENDAR