BEGIN:VCALENDAR
VERSION:2.0
PRODID:-//Djursholms Tennisklubb - ECPv6.15.14//NONSGML v1.0//EN
CALSCALE:GREGORIAN
METHOD:PUBLISH
X-WR-CALNAME:Djursholms Tennisklubb
X-ORIGINAL-URL:https://www.djtk.se
X-WR-CALDESC:Händelser för Djursholms Tennisklubb
REFRESH-INTERVAL;VALUE=DURATION:PT1H
X-Robots-Tag:noindex
X-PUBLISHED-TTL:PT1H
BEGIN:VTIMEZONE
TZID:Europe/Stockholm
BEGIN:DAYLIGHT
TZOFFSETFROM:+0100
TZOFFSETTO:+0200
TZNAME:CEST
DTSTART:20250330T010000
END:DAYLIGHT
BEGIN:STANDARD
TZOFFSETFROM:+0200
TZOFFSETTO:+0100
TZNAME:CET
DTSTART:20251026T010000
END:STANDARD
BEGIN:DAYLIGHT
TZOFFSETFROM:+0100
TZOFFSETTO:+0200
TZNAME:CEST
DTSTART:20260329T010000
END:DAYLIGHT
BEGIN:STANDARD
TZOFFSETFROM:+0200
TZOFFSETTO:+0100
TZNAME:CET
DTSTART:20261025T010000
END:STANDARD
BEGIN:DAYLIGHT
TZOFFSETFROM:+0100
TZOFFSETTO:+0200
TZNAME:CEST
DTSTART:20270328T010000
END:DAYLIGHT
BEGIN:STANDARD
TZOFFSETFROM:+0200
TZOFFSETTO:+0100
TZNAME:CET
DTSTART:20271031T010000
END:STANDARD
END:VTIMEZONE
BEGIN:VEVENT
DTSTART;TZID=Europe/Stockholm:20260401T110000
DTEND;TZID=Europe/Stockholm:20260401T123000
DTSTAMP:20260424T220321
CREATED:20251028T094835Z
LAST-MODIFIED:20251028T094835Z
UID:10011831-1775041200-1775046600@www.djtk.se
SUMMARY:Padel - Stationsträning med 3 tränare. 90 min\, Nivå 4-6
DESCRIPTION:
URL:https://www.djtk.se/kalender/padel-stationstraning-med-3-tranare-90-min-niva-4-6/2026-04-01/
LOCATION:Djursholms Tennisklubb\, Danderydsvägen 4\, Djursholm\, 18268
END:VEVENT
BEGIN:VEVENT
DTSTART;TZID=Europe/Stockholm:20260401T120000
DTEND;TZID=Europe/Stockholm:20260401T140000
DTSTAMP:20260424T220321
CREATED:20251028T100228Z
LAST-MODIFIED:20251028T100228Z
UID:10013133-1775044800-1775052000@www.djtk.se
SUMMARY:Tennis - Team damdubbel omg. 2
DESCRIPTION:
URL:https://www.djtk.se/kalender/tennis-team-damdubbel-omg-2/2026-04-01/
LOCATION:Djursholms Tennisklubb\, Danderydsvägen 4\, Djursholm\, 18268
END:VEVENT
BEGIN:VEVENT
DTSTART;TZID=Europe/Stockholm:20260402T110000
DTEND;TZID=Europe/Stockholm:20260402T120000
DTSTAMP:20260424T220321
CREATED:20251028T093700Z
LAST-MODIFIED:20251028T093700Z
UID:10010529-1775127600-1775131200@www.djtk.se
SUMMARY:Tennis - Teknikträning Nivå 3+
DESCRIPTION:
URL:https://www.djtk.se/kalender/tennis-tekniktraning-niva-3/2026-04-02/
LOCATION:Djursholms Tennisklubb\, Danderydsvägen 4\, Djursholm\, 18268
END:VEVENT
BEGIN:VEVENT
DTSTART;TZID=Europe/Stockholm:20260402T110000
DTEND;TZID=Europe/Stockholm:20260402T120000
DTSTAMP:20260424T220321
CREATED:20251028T095014Z
LAST-MODIFIED:20251028T095014Z
UID:10012091-1775127600-1775131200@www.djtk.se
SUMMARY:Padel - Drop in träning. 60 min\, Nivå 4-5
DESCRIPTION:
URL:https://www.djtk.se/kalender/padel-drop-in-traning-60-min-niva-4-5/2026-04-02/
LOCATION:Djursholms Tennisklubb\, Danderydsvägen 4\, Djursholm\, 18268
END:VEVENT
BEGIN:VEVENT
DTSTART;TZID=Europe/Stockholm:20260402T120000
DTEND;TZID=Europe/Stockholm:20260402T130000
DTSTAMP:20260424T220321
CREATED:20251028T093828Z
LAST-MODIFIED:20251028T093828Z
UID:10010789-1775131200-1775134800@www.djtk.se
SUMMARY:Tennis - Matchspel singel Avancerad
DESCRIPTION:
URL:https://www.djtk.se/kalender/tennis-matchspel-singel-avancerad/2026-04-02/
LOCATION:Djursholms Tennisklubb\, Danderydsvägen 4\, Djursholm\, 18268
END:VEVENT
BEGIN:VEVENT
DTSTART;TZID=Europe/Stockholm:20260403T080000
DTEND;TZID=Europe/Stockholm:20260403T093000
DTSTAMP:20260424T220321
CREATED:20251028T095146Z
LAST-MODIFIED:20251028T095146Z
UID:10012351-1775203200-1775208600@www.djtk.se
SUMMARY:Padel - Vinnarbana med tränare. 90 min\, Nivå 6-7 Herrar
DESCRIPTION:
URL:https://www.djtk.se/kalender/padel-vinnarbana-med-tranare-90-min-niva-6-7-herrar/2026-04-03/
LOCATION:Djursholms Tennisklubb\, Danderydsvägen 4\, Djursholm\, 18268
END:VEVENT
BEGIN:VEVENT
DTSTART;TZID=Europe/Stockholm:20260403T103000
DTEND;TZID=Europe/Stockholm:20260403T113000
DTSTAMP:20260424T220321
CREATED:20251028T095320Z
LAST-MODIFIED:20251028T095320Z
UID:10012611-1775212200-1775215800@www.djtk.se
SUMMARY:Padel - Seniorträning 55+\, 60 min.
DESCRIPTION:
URL:https://www.djtk.se/kalender/padel-seniortraning-55-60-min/2026-04-03/
LOCATION:Djursholms Tennisklubb\, Danderydsvägen 4\, Djursholm\, 18268
END:VEVENT
BEGIN:VEVENT
DTSTART;TZID=Europe/Stockholm:20260403T113000
DTEND;TZID=Europe/Stockholm:20260403T130000
DTSTAMP:20260424T220321
CREATED:20251028T095652Z
LAST-MODIFIED:20251028T095652Z
UID:10012871-1775215800-1775221200@www.djtk.se
SUMMARY:Padel - Mexicanofredag by Gatorade. Nivå 4-6
DESCRIPTION:
URL:https://www.djtk.se/kalender/padel-mexicanofredag-by-gatorade-niva-4-6/2026-04-03/
LOCATION:Djursholms Tennisklubb\, Danderydsvägen 4\, Djursholm\, 18268
END:VEVENT
BEGIN:VEVENT
DTSTART;TZID=Europe/Stockholm:20260406T100000
DTEND;TZID=Europe/Stockholm:20260406T113000
DTSTAMP:20260424T220321
CREATED:20251028T094254Z
LAST-MODIFIED:20251028T094254Z
UID:10011050-1775469600-1775475000@www.djtk.se
SUMMARY:Padel - Seniorträning  55+\, 90 min
DESCRIPTION:
URL:https://www.djtk.se/kalender/padel-seniortraning-55-90-min/2026-04-06/
LOCATION:Djursholms Tennisklubb\, Danderydsvägen 4\, Djursholm\, 18268
END:VEVENT
BEGIN:VEVENT
DTSTART;TZID=Europe/Stockholm:20260406T113000
DTEND;TZID=Europe/Stockholm:20260406T130000
DTSTAMP:20260424T220321
CREATED:20251028T094449Z
LAST-MODIFIED:20251028T094449Z
UID:10011311-1775475000-1775480400@www.djtk.se
SUMMARY:Padel- Matchspel med tränare 90 min\, nivå 3-5
DESCRIPTION:
URL:https://www.djtk.se/kalender/padel-matchspel-med-tranare-90-min-niva-3-5/2026-04-06/
LOCATION:Djursholms Tennisklubb\, Danderydsvägen 4\, Djursholm\, 18268
END:VEVENT
BEGIN:VEVENT
DTSTART;TZID=Europe/Stockholm:20260407T110000
DTEND;TZID=Europe/Stockholm:20260407T123000
DTSTAMP:20260424T220321
CREATED:20251028T094614Z
LAST-MODIFIED:20251028T094614Z
UID:10011572-1775559600-1775565000@www.djtk.se
SUMMARY:Padel - Matchspel med tränare. 90 min\, Nivå 5-7
DESCRIPTION:
URL:https://www.djtk.se/kalender/padel-matchspel-med-tranare-90-min-niva-5-7/2026-04-07/
LOCATION:Djursholms Tennisklubb\, Danderydsvägen 4\, Djursholm\, 18268
END:VEVENT
BEGIN:VEVENT
DTSTART;TZID=Europe/Stockholm:20260407T120000
DTEND;TZID=Europe/Stockholm:20260407T130000
DTSTAMP:20260424T220321
CREATED:20251028T093442Z
LAST-MODIFIED:20251028T093442Z
UID:10010269-1775563200-1775566800@www.djtk.se
SUMMARY:Tennis - Matchspel Singel Nivå 3-4
DESCRIPTION:
URL:https://www.djtk.se/kalender/tennis-matchspel-singel-niva-3-4/2026-04-07/
LOCATION:Djursholms Tennisklubb\, Danderydsvägen 4\, Djursholm\, 18268
END:VEVENT
BEGIN:VEVENT
DTSTART;TZID=Europe/Stockholm:20260408T110000
DTEND;TZID=Europe/Stockholm:20260408T123000
DTSTAMP:20260424T220321
CREATED:20251028T094835Z
LAST-MODIFIED:20251028T094835Z
UID:10011832-1775646000-1775651400@www.djtk.se
SUMMARY:Padel - Stationsträning med 3 tränare. 90 min\, Nivå 4-6
DESCRIPTION:
URL:https://www.djtk.se/kalender/padel-stationstraning-med-3-tranare-90-min-niva-4-6/2026-04-08/
LOCATION:Djursholms Tennisklubb\, Danderydsvägen 4\, Djursholm\, 18268
END:VEVENT
BEGIN:VEVENT
DTSTART;TZID=Europe/Stockholm:20260408T120000
DTEND;TZID=Europe/Stockholm:20260408T140000
DTSTAMP:20260424T220321
CREATED:20251028T100228Z
LAST-MODIFIED:20251028T100228Z
UID:10013134-1775649600-1775656800@www.djtk.se
SUMMARY:Tennis - Team damdubbel omg. 2
DESCRIPTION:
URL:https://www.djtk.se/kalender/tennis-team-damdubbel-omg-2/2026-04-08/
LOCATION:Djursholms Tennisklubb\, Danderydsvägen 4\, Djursholm\, 18268
END:VEVENT
BEGIN:VEVENT
DTSTART;TZID=Europe/Stockholm:20260409T110000
DTEND;TZID=Europe/Stockholm:20260409T120000
DTSTAMP:20260424T220321
CREATED:20251028T093700Z
LAST-MODIFIED:20251028T093700Z
UID:10010530-1775732400-1775736000@www.djtk.se
SUMMARY:Tennis - Teknikträning Nivå 3+
DESCRIPTION:
URL:https://www.djtk.se/kalender/tennis-tekniktraning-niva-3/2026-04-09/
LOCATION:Djursholms Tennisklubb\, Danderydsvägen 4\, Djursholm\, 18268
END:VEVENT
BEGIN:VEVENT
DTSTART;TZID=Europe/Stockholm:20260409T110000
DTEND;TZID=Europe/Stockholm:20260409T120000
DTSTAMP:20260424T220321
CREATED:20251028T095014Z
LAST-MODIFIED:20251028T095014Z
UID:10012092-1775732400-1775736000@www.djtk.se
SUMMARY:Padel - Drop in träning. 60 min\, Nivå 4-5
DESCRIPTION:
URL:https://www.djtk.se/kalender/padel-drop-in-traning-60-min-niva-4-5/2026-04-09/
LOCATION:Djursholms Tennisklubb\, Danderydsvägen 4\, Djursholm\, 18268
END:VEVENT
BEGIN:VEVENT
DTSTART;TZID=Europe/Stockholm:20260409T120000
DTEND;TZID=Europe/Stockholm:20260409T130000
DTSTAMP:20260424T220321
CREATED:20251028T093828Z
LAST-MODIFIED:20251028T093828Z
UID:10010790-1775736000-1775739600@www.djtk.se
SUMMARY:Tennis - Matchspel singel Avancerad
DESCRIPTION:
URL:https://www.djtk.se/kalender/tennis-matchspel-singel-avancerad/2026-04-09/
LOCATION:Djursholms Tennisklubb\, Danderydsvägen 4\, Djursholm\, 18268
END:VEVENT
BEGIN:VEVENT
DTSTART;TZID=Europe/Stockholm:20260410T080000
DTEND;TZID=Europe/Stockholm:20260410T093000
DTSTAMP:20260424T220321
CREATED:20251028T095146Z
LAST-MODIFIED:20251028T095146Z
UID:10012352-1775808000-1775813400@www.djtk.se
SUMMARY:Padel - Vinnarbana med tränare. 90 min\, Nivå 6-7 Herrar
DESCRIPTION:
URL:https://www.djtk.se/kalender/padel-vinnarbana-med-tranare-90-min-niva-6-7-herrar/2026-04-10/
LOCATION:Djursholms Tennisklubb\, Danderydsvägen 4\, Djursholm\, 18268
END:VEVENT
BEGIN:VEVENT
DTSTART;TZID=Europe/Stockholm:20260410T103000
DTEND;TZID=Europe/Stockholm:20260410T113000
DTSTAMP:20260424T220321
CREATED:20251028T095320Z
LAST-MODIFIED:20251028T095320Z
UID:10012612-1775817000-1775820600@www.djtk.se
SUMMARY:Padel - Seniorträning 55+\, 60 min.
DESCRIPTION:
URL:https://www.djtk.se/kalender/padel-seniortraning-55-60-min/2026-04-10/
LOCATION:Djursholms Tennisklubb\, Danderydsvägen 4\, Djursholm\, 18268
END:VEVENT
BEGIN:VEVENT
DTSTART;TZID=Europe/Stockholm:20260410T113000
DTEND;TZID=Europe/Stockholm:20260410T130000
DTSTAMP:20260424T220321
CREATED:20251028T095652Z
LAST-MODIFIED:20251028T095652Z
UID:10012872-1775820600-1775826000@www.djtk.se
SUMMARY:Padel - Mexicanofredag by Gatorade. Nivå 4-6
DESCRIPTION:
URL:https://www.djtk.se/kalender/padel-mexicanofredag-by-gatorade-niva-4-6/2026-04-10/
LOCATION:Djursholms Tennisklubb\, Danderydsvägen 4\, Djursholm\, 18268
END:VEVENT
BEGIN:VEVENT
DTSTART;TZID=Europe/Stockholm:20260413T100000
DTEND;TZID=Europe/Stockholm:20260413T113000
DTSTAMP:20260424T220321
CREATED:20251028T094254Z
LAST-MODIFIED:20251028T094254Z
UID:10011051-1776074400-1776079800@www.djtk.se
SUMMARY:Padel - Seniorträning  55+\, 90 min
DESCRIPTION:
URL:https://www.djtk.se/kalender/padel-seniortraning-55-90-min/2026-04-13/
LOCATION:Djursholms Tennisklubb\, Danderydsvägen 4\, Djursholm\, 18268
END:VEVENT
BEGIN:VEVENT
DTSTART;TZID=Europe/Stockholm:20260413T113000
DTEND;TZID=Europe/Stockholm:20260413T130000
DTSTAMP:20260424T220321
CREATED:20251028T094449Z
LAST-MODIFIED:20251028T094449Z
UID:10011312-1776079800-1776085200@www.djtk.se
SUMMARY:Padel- Matchspel med tränare 90 min\, nivå 3-5
DESCRIPTION:
URL:https://www.djtk.se/kalender/padel-matchspel-med-tranare-90-min-niva-3-5/2026-04-13/
LOCATION:Djursholms Tennisklubb\, Danderydsvägen 4\, Djursholm\, 18268
END:VEVENT
BEGIN:VEVENT
DTSTART;TZID=Europe/Stockholm:20260414T110000
DTEND;TZID=Europe/Stockholm:20260414T123000
DTSTAMP:20260424T220321
CREATED:20251028T094614Z
LAST-MODIFIED:20251028T094614Z
UID:10011573-1776164400-1776169800@www.djtk.se
SUMMARY:Padel - Matchspel med tränare. 90 min\, Nivå 5-7
DESCRIPTION:
URL:https://www.djtk.se/kalender/padel-matchspel-med-tranare-90-min-niva-5-7/2026-04-14/
LOCATION:Djursholms Tennisklubb\, Danderydsvägen 4\, Djursholm\, 18268
END:VEVENT
BEGIN:VEVENT
DTSTART;TZID=Europe/Stockholm:20260414T120000
DTEND;TZID=Europe/Stockholm:20260414T130000
DTSTAMP:20260424T220321
CREATED:20251028T093442Z
LAST-MODIFIED:20251028T093442Z
UID:10010270-1776168000-1776171600@www.djtk.se
SUMMARY:Tennis - Matchspel Singel Nivå 3-4
DESCRIPTION:
URL:https://www.djtk.se/kalender/tennis-matchspel-singel-niva-3-4/2026-04-14/
LOCATION:Djursholms Tennisklubb\, Danderydsvägen 4\, Djursholm\, 18268
END:VEVENT
BEGIN:VEVENT
DTSTART;TZID=Europe/Stockholm:20260415T110000
DTEND;TZID=Europe/Stockholm:20260415T123000
DTSTAMP:20260424T220321
CREATED:20251028T094835Z
LAST-MODIFIED:20251028T094835Z
UID:10011833-1776250800-1776256200@www.djtk.se
SUMMARY:Padel - Stationsträning med 3 tränare. 90 min\, Nivå 4-6
DESCRIPTION:
URL:https://www.djtk.se/kalender/padel-stationstraning-med-3-tranare-90-min-niva-4-6/2026-04-15/
LOCATION:Djursholms Tennisklubb\, Danderydsvägen 4\, Djursholm\, 18268
END:VEVENT
BEGIN:VEVENT
DTSTART;TZID=Europe/Stockholm:20260415T120000
DTEND;TZID=Europe/Stockholm:20260415T140000
DTSTAMP:20260424T220321
CREATED:20251028T100228Z
LAST-MODIFIED:20251028T100228Z
UID:10013135-1776254400-1776261600@www.djtk.se
SUMMARY:Tennis - Team damdubbel omg. 2
DESCRIPTION:
URL:https://www.djtk.se/kalender/tennis-team-damdubbel-omg-2/2026-04-15/
LOCATION:Djursholms Tennisklubb\, Danderydsvägen 4\, Djursholm\, 18268
END:VEVENT
BEGIN:VEVENT
DTSTART;TZID=Europe/Stockholm:20260416T110000
DTEND;TZID=Europe/Stockholm:20260416T120000
DTSTAMP:20260424T220321
CREATED:20251028T093700Z
LAST-MODIFIED:20251028T093700Z
UID:10010531-1776337200-1776340800@www.djtk.se
SUMMARY:Tennis - Teknikträning Nivå 3+
DESCRIPTION:
URL:https://www.djtk.se/kalender/tennis-tekniktraning-niva-3/2026-04-16/
LOCATION:Djursholms Tennisklubb\, Danderydsvägen 4\, Djursholm\, 18268
END:VEVENT
BEGIN:VEVENT
DTSTART;TZID=Europe/Stockholm:20260416T110000
DTEND;TZID=Europe/Stockholm:20260416T120000
DTSTAMP:20260424T220322
CREATED:20251028T095014Z
LAST-MODIFIED:20251028T095014Z
UID:10012093-1776337200-1776340800@www.djtk.se
SUMMARY:Padel - Drop in träning. 60 min\, Nivå 4-5
DESCRIPTION:
URL:https://www.djtk.se/kalender/padel-drop-in-traning-60-min-niva-4-5/2026-04-16/
LOCATION:Djursholms Tennisklubb\, Danderydsvägen 4\, Djursholm\, 18268
END:VEVENT
BEGIN:VEVENT
DTSTART;TZID=Europe/Stockholm:20260416T120000
DTEND;TZID=Europe/Stockholm:20260416T130000
DTSTAMP:20260424T220322
CREATED:20251028T093828Z
LAST-MODIFIED:20251028T093828Z
UID:10010791-1776340800-1776344400@www.djtk.se
SUMMARY:Tennis - Matchspel singel Avancerad
DESCRIPTION:
URL:https://www.djtk.se/kalender/tennis-matchspel-singel-avancerad/2026-04-16/
LOCATION:Djursholms Tennisklubb\, Danderydsvägen 4\, Djursholm\, 18268
END:VEVENT
BEGIN:VEVENT
DTSTART;TZID=Europe/Stockholm:20260417T080000
DTEND;TZID=Europe/Stockholm:20260417T093000
DTSTAMP:20260424T220322
CREATED:20251028T095146Z
LAST-MODIFIED:20251028T095146Z
UID:10012353-1776412800-1776418200@www.djtk.se
SUMMARY:Padel - Vinnarbana med tränare. 90 min\, Nivå 6-7 Herrar
DESCRIPTION:
URL:https://www.djtk.se/kalender/padel-vinnarbana-med-tranare-90-min-niva-6-7-herrar/2026-04-17/
LOCATION:Djursholms Tennisklubb\, Danderydsvägen 4\, Djursholm\, 18268
END:VEVENT
END:VCALENDAR